{"text_format":"3","workbook":"xlsx","n_sheets":2,"sheets":["Bidder 1-5","Bidder 6-10"],"not_rendered":{"images":1,"defined_names":5},"read":"whole","date_system":"1900"}

{"sheet":"Bidder 1-5","index":0,"n_rows":119,"n_cols":16,"rows_kept":119,"merged":[[0,0,0,9],[0,11,0,13],[1,0,1,1],[1,2,1,4],[1,6,1,7],[1,12,1,13],[2,0,2,1],[2,2,2,4],[2,6,4,10],[2,12,2,13],[3,0,3,1],[3,2,3,4],[3,12,3,13],[4,0,4,1],[4,2,4,4],[4,12,4,13],[4,14,5,14],[5,4,5,5],[5,6,5,7],[5,8,5,9],[5,10,5,11],[5,12,5,13],[6,1,6,2],[7,1,7,2],[8,1,8,2],[9,1,9,13],[10,1,10,2],[11,1,11,2],[12,1,12,2],[13,0,13,2],[14,1,14,2],[15,1,15,2],[16,1,16,2],[17,0,17,2],[18,1,18,2],[19,1,19,2],[20,1,20,2],[21,0,21,2],[22,1,22,2],[23,1,23,2],[24,1,24,2],[25,0,25,2],[26,1,26,2],[27,1,27,2],[28,1,28,2],[29,0,29,2],[30,1,30,2],[31,1,31,2],[32,1,32,2],[33,1,33,2],[34,0,34,2],[35,1,35,2],[36,0,36,2],[37,1,37,13],[38,1,38,2],[39,1,39,2],[40,1,40,2],[41,1,41,2],[42,1,42,2],[43,1,43,2],[44,1,44,2],[45,1,45,2],[46,1,46,2],[47,0,47,2],[48,1,48,2],[49,1,49,2],[50,1,50,2],[51,1,51,2],[52,1,52,2],[53,1,53,2],[54,1,54,2],[55,1,55,2],[56,1,56,2],[57,0,57,2],[58,1,58,2],[59,1,59,2],[60,1,60,2],[61,1,61,2],[62,1,62,2],[63,1,63,2],[64,1,64,2],[65,1,65,2],[66,1,66,2],[67,0,67,2],[68,1,68,2],[69,1,69,2],[70,1,70,2],[71,1,71,2],[72,1,72,2],[73,1,73,2],[74,1,74,2],[75,1,75,2],[76,1,76,2],[77,0,77,2],[78,1,78,2],[79,1,79,2],[80,1,80,2],[81,1,81,2],[82,1,82,2],[83,1,83,2],[84,1,84,2],[85,1,85,2],[86,1,86,2],[87,0,87,2],[88,1,88,2],[89,1,89,2],[90,1,90,2],[91,1,91,2],[92,1,92,2],[93,1,93,2],[94,1,94,2],[95,1,95,2],[96,0,96,2],[97,1,97,2],[98,1,98,2],[99,1,99,2],[100,1,100,2],[101,1,101,2],[102,1,102,2],[103,1,103,2],[104,1,104,2],[105,0,105,2],[106,1,106,2],[107,1,107,2],[108,1,108,2],[109,1,109,2],[110,0,110,2],[111,0,111,2],[112,0,112,2],[113,0,113,2],[114,0,114,2],[116,0,116,13],[117,0,117,2],[117,8,117,13],[118,8,118,13]]}
["Grid for the technical assessment of bids below the EU threshold",{"$nulls":13},"Bidder 1 to 5"]
["Org. unit",null,"NRM/CC",{"$nulls":3},"Project title",{"$nulls":4},"Date","Date"]
["Officer responsible for the commission",{"$nulls":5},"Project title: Engagement of Technical agency for Green Recovery Action Plan on Climate Resilient Livelihood for Migrants",{"$nulls":4},"PN","PN: 18.2255.0-001"]
["Assessor",null,"Name",{"$nulls":8},"Contract no.","Contract no."]
["Version",null,"Individual assessment/overall assessment",{"$nulls":9},{"$f":"\"Bidder 1 to 5 of \"&TEXT(IF(COUNTA('Bidder 6-10'!E11:E37,'Bidder 6-10'!G11:G37,'Bidder 6-10'!I11:I37,'Bidder 6-10'!K11:K37,'Bidder 6-10'!M11:M37)+COUNTA('Bidder 6-10'!E39:E110,'Bidder 6-10'!G39:G110,'Bidder 6-10'!I39:I110,'Bidder 6-10'!K39:K110,'Bidder 6-10'!M39:M110)>0,\"10\",\"5\"),\"0\")","v":"Bidder 1 to 5 of 5"},null,"(automatically increases to 10,\nif entries were made on sheet 'Bidder 6-10')"]
[{"$nulls":4},"Enter bidder 1",null,"Enter bidder 2",null,"Enter bidder 3",null,"Enter bidder 4",null,"Enter bidder 5"]
[null,"(1)",null,"(2)","(3)","(4)","(3)","(4)","(3)","(4)","(3)","(4)","(3)","(4)"]
[null,"Criterion",null,"Weighting","Points","Assessment","Points","Assessment","Points","Assessment","Points","Assessment","Points","Assessment"]
[{"$nulls":3},"in %","(max.10)","(2)x(3)","(max.10)","(2)x(3)","(max.10)","(2)x(3)","(max.10)","(2)x(3)","(max.10)","(2)x(3)"]
["1","Assessment of technical-methodological design",{"$nulls":13},{"$f":"IF(ISBLANK(B10),A10,B10)","v":"Assessment of technical-methodological design"}]
["1.1","Strategy",{"$nulls":13},{"$f":"IF(ISBLANK(B11),A11,B11)","v":"Strategy"}]
["1.1.1","Interpretation of the objectives in the ToRs, critical examination of tasks",null,{"v":0.03,"d":"3%"},null,{"$f":"$D12*E12*100","v":{"v":0,"d":"0.0"}},null,{"$f":"$D12*G12*100","v":{"v":0,"d":"0.0"}},null,{"$f":"$D12*I12*100","v":{"v":0,"d":"0.0"}},null,{"$f":"$D12*K12*100","v":{"v":0,"d":"0.0"}},null,{"$f":"$D12*M12*100","v":{"v":0,"d":"0.0"}},null,"Interpretation of the objectives in the ToRs, critical examination of tasks"]
["1.1.2","Description and justification of the contractor's strategy for delivering the services put out to tender.",null,{"v":0.05,"d":"5%"},null,{"$f":"$D13*E13*100","v":{"v":0,"d":"0.0"}},null,{"$f":"$D13*G13*100","v":{"v":0,"d":"0.0"}},null,{"$f":"$D13*I13*100","v":{"v":0,"d":"0.0"}},null,{"$f":"$D13*K13*100","v":{"v":0,"d":"0.0"}},null,{"$f":"$D13*M13*100","v":{"v":0,"d":"0.0"}},null,"Description and justification of the contractor's strategy for delivering the services put out to tender."]
["Interim total 1.1",null,null,{"$f":"SUM(D12:D13)","v":{"v":0.08,"d":"8%"}},null,{"$f":"SUM(F12:F13)","v":{"v":0,"d":"0.0"}},null,{"$f":"SUM(H12:H13)","v":{"v":0,"d":"0.0"}},null,{"$f":"SUM(J12:J13)","v":{"v":0,"d":"0.0"}},null,{"$f":"SUM(L12:L13)","v":{"v":0,"d":"0.0"}},null,{"$f":"SUM(N12:N13)","v":{"v":0,"d":"0.0"}},null,"Interim total 1.1"]
["1.2","Cooperation",{"$nulls":13},"Cooperation"]
["1.2.1","Presentation and interaction between the relevant actors in the contractor's area of responsibility",null,{"v":0.02,"d":"2%"},null,{"$f":"$D16*E16*100","v":{"v":0,"d":"0.0"}},null,{"$f":"$D16*G16*100","v":{"v":0,"d":"0.0"}},null,{"$f":"$D16*I16*100","v":{"v":0,"d":"0.0"}},null,{"$f":"$D16*K16*100","v":{"v":0,"d":"0.0"}},null,{"$f":"$D16*M16*100","v":{"v":0,"d":"0.0"}},null,"Presentation and interaction between the relevant actors in the contractor's area of responsibility"]
["1.2.2","Strategy for establishing cooperation and then cooperating with the relevant actors",null,{"v":0.03,"d":"3%"},null,{"$f":"$D17*E17*100","v":{"v":0,"d":"0.0"}},null,{"$f":"$D17*G17*100","v":{"v":0,"d":"0.0"}},null,{"$f":"$D17*I17*100","v":{"v":0,"d":"0.0"}},null,{"$f":"$D17*K17*100","v":{"v":0,"d":"0.0"}},null,{"$f":"$D17*M17*100","v":{"v":0,"d":"0.0"}},null,"Strategy for establishing cooperation and then cooperating with the relevant actors"]
["Interim total 1.2",null,null,{"$f":"SUM(D16:D17)","v":{"v":0.05,"d":"5%"}},null,{"$f":"SUM(F16:F17)","v":{"v":0,"d":"0.0"}},null,{"$f":"SUM(H16:H17)","v":{"v":0,"d":"0.0"}},null,{"$f":"SUM(J16:J17)","v":{"v":0,"d":"0.0"}},null,{"$f":"SUM(L16:L17)","v":{"v":0,"d":"0.0"}},null,{"$f":"SUM(N16:N17)","v":{"v":0,"d":"0.0"}},null,"Interim total 1.2"]
["1.3","Steering structure",{"$nulls":13},"Steering structure"]
["1.3.1","Approach and procedure for steering the measures with the project partners",null,{"v":0.02,"d":"2%"},null,{"$f":"$D20*E20*100","v":{"v":0,"d":"0.0"}},null,{"$f":"$D20*G20*100","v":{"v":0,"d":"0.0"}},null,{"$f":"$D20*I20*100","v":{"v":0,"d":"0.0"}},null,{"$f":"$D20*K20*100","v":{"v":0,"d":"0.0"}},null,{"$f":"$D20*M20*100","v":{"v":0,"d":"0.0"}},null,"Approach and procedure for steering the measures with the project partners"]
["1.3.2","Description of contractor's contribution to results monitoring and the associated challenges",null,{"v":0.02,"d":"2%"},null,{"$f":"$D21*E21*100","v":{"v":0,"d":"0.0"}},null,{"$f":"$D21*G21*100","v":{"v":0,"d":"0.0"}},null,{"$f":"$D21*I21*100","v":{"v":0,"d":"0.0"}},null,{"$f":"$D21*K21*100","v":{"v":0,"d":"0.0"}},null,{"$f":"$D21*M21*100","v":{"v":0,"d":"0.0"}},null,"Description of contractor's contribution to results monitoring and the associated challenges"]
["Interim total 1.3",null,null,{"$f":"SUM(D20:D21)","v":{"v":0.04,"d":"4%"}},null,{"$f":"SUM(F20:F21)","v":{"v":0,"d":"0.0"}},null,{"$f":"SUM(H20:H21)","v":{"v":0,"d":"0.0"}},null,{"$f":"SUM(J20:J21)","v":{"v":0,"d":"0.0"}},null,{"$f":"SUM(L20:L21)","v":{"v":0,"d":"0.0"}},null,{"$f":"SUM(N20:N21)","v":{"v":0,"d":"0.0"}},null,"Interim total 1.3"]
["1.4","Processes",{"$nulls":13},"Processes"]
["1.4.1","Presentation and explanation of the implementation plan: work steps, milestones, schedule",null,{"v":0.04,"d":"4%"},null,{"$f":"$D24*E24*100","v":{"v":0,"d":"0.0"}},null,{"$f":"$D24*G24*100","v":{"v":0,"d":"0.0"}},null,{"$f":"$D24*I24*100","v":{"v":0,"d":"0.0"}},null,{"$f":"$D24*K24*100","v":{"v":0,"d":"0.0"}},null,{"$f":"$D24*M24*100","v":{"v":0,"d":"0.0"}},null,"Presentation and explanation of the implementation plan: work steps, milestones, schedule"]
["1.4.2","Presentation and explanation of the integration of the partner contributions",null,{"v":0.02,"d":"2%"},null,{"$f":"$D25*E25*100","v":{"v":0,"d":"0.0"}},null,{"$f":"$D25*G25*100","v":{"v":0,"d":"0.0"}},null,{"$f":"$D25*I25*100","v":{"v":0,"d":"0.0"}},null,{"$f":"$D25*K25*100","v":{"v":0,"d":"0.0"}},null,{"$f":"$D25*M25*100","v":{"v":0,"d":"0.0"}},null,"Presentation and explanation of the integration of the partner contributions"]
["Interim total 1.4",null,null,{"$f":"SUM(D24:D25)","v":{"v":0.06,"d":"6%"}},null,{"$f":"SUM(F24:F25)","v":{"v":0,"d":"0.0"}},null,{"$f":"SUM(H24:H25)","v":{"v":0,"d":"0.0"}},null,{"$f":"SUM(J24:J25)","v":{"v":0,"d":"0.0"}},null,{"$f":"SUM(L24:L25)","v":{"v":0,"d":"0.0"}},null,{"$f":"SUM(N24:N25)","v":{"v":0,"d":"0.0"}},null,"Interim total 1.4"]
["1.5","Learning and innovation",{"$nulls":13},"Learning and innovation"]
["1.5.1","Contractor's contribution to knowledge management at the partner and at GIZ",null,{"v":0.02,"d":"2%"},null,{"$f":"$D28*E28*100","v":{"v":0,"d":"0.0"}},null,{"$f":"$D28*G28*100","v":{"v":0,"d":"0.0"}},null,{"$f":"$D28*I28*100","v":{"v":0,"d":"0.0"}},null,{"$f":"$D28*K28*100","v":{"v":0,"d":"0.0"}},null,{"$f":"$D28*M28*100","v":{"v":0,"d":"0.0"}},null,"Contractor's contribution to knowledge management at the partner and at GIZ"]
["1.5.2","Presentation and explanation of the measures undertaken by the contractor to promote scaling-up effects",null,{"v":0.02,"d":"2%"},null,{"$f":"$D29*E29*100","v":{"v":0,"d":"0.0"}},null,{"$f":"$D29*G29*100","v":{"v":0,"d":"0.0"}},null,{"$f":"$D29*I29*100","v":{"v":0,"d":"0.0"}},null,{"$f":"$D29*K29*100","v":{"v":0,"d":"0.0"}},null,{"$f":"$D29*M29*100","v":{"v":0,"d":"0.0"}},null,"Presentation and explanation of the measures undertaken by the contractor to promote scaling-up effects"]
["Interim total 1.5",null,null,{"$f":"SUM(D28:D29)","v":{"v":0.04,"d":"4%"}},null,{"$f":"SUM(F28:F29)","v":{"v":0,"d":"0.0"}},null,{"$f":"SUM(H28:H29)","v":{"v":0,"d":"0.0"}},null,{"$f":"SUM(J28:J29)","v":{"v":0,"d":"0.0"}},null,{"$f":"SUM(L28:L29)","v":{"v":0,"d":"0.0"}},null,{"$f":"SUM(N28:N29)","v":{"v":0,"d":"0.0"}},null,"Interim total 1.5"]
["1.6","Project management of the contractor",{"$nulls":13},"Project management of the contractor"]
["1.6.1","Approach and procedure for coordination with/in GIZ project",null,{"v":0.02,"d":"2%"},null,{"$f":"$D32*E32*100","v":{"v":0,"d":"0.0"}},null,{"$f":"$D32*G32*100","v":{"v":0,"d":"0.0"}},null,{"$f":"$D32*I32*100","v":{"v":0,"d":"0.0"}},null,{"$f":"$D32*K32*100","v":{"v":0,"d":"0.0"}},null,{"$f":"$D32*M32*100","v":{"v":0,"d":"0.0"}},null,"Approach and procedure for coordination with/in GIZ project"]
["1.6.2","Personnel assignment plan (who, when, what work steps) incl. explanation and specification of expert months",null,{"v":0.02,"d":"2%"},null,{"$f":"$D33*E33*100","v":{"v":0,"d":"0.0"}},null,{"$f":"$D33*G33*100","v":{"v":0,"d":"0.0"}},null,{"$f":"$D33*I33*100","v":{"v":0,"d":"0.0"}},null,{"$f":"$D33*K33*100","v":{"v":0,"d":"0.0"}},null,{"$f":"$D33*M33*100","v":{"v":0,"d":"0.0"}},null,"Personnel assignment plan (who, when, what work steps) incl. explanation and specification of expert months"]
["1.6.3","Contractor's backstopping strategy (incl. CVs of the technical and administrative backstopper)",null,{"v":0.02,"d":"2%"},null,{"$f":"$D34*E34*100","v":{"v":0,"d":"0.0"}},null,{"$f":"$D34*G34*100","v":{"v":0,"d":"0.0"}},null,{"$f":"$D34*I34*100","v":{"v":0,"d":"0.0"}},null,{"$f":"$D34*K34*100","v":{"v":0,"d":"0.0"}},null,{"$f":"$D34*M34*100","v":{"v":0,"d":"0.0"}},null,"Contractor's backstopping strategy (incl. CVs of the technical and administrative backstopper)"]
["Interim total 1.6",null,null,{"$f":"SUM(D32:D34)","v":{"v":0.06,"d":"6%"}},null,{"$f":"SUM(F32:F34)","v":{"v":0,"d":"0.0"}},null,{"$f":"SUM(H32:H34)","v":{"v":0,"d":"0.0"}},null,{"$f":"SUM(J32:J34)","v":{"v":0,"d":"0.0"}},null,{"$f":"SUM(L32:L34)","v":{"v":0,"d":"0.0"}},null,{"$f":"SUM(N32:N34)","v":{"v":0,"d":"0.0"}},null,"Interim total 1.6"]
["1.7","Further requirements",null,{"v":0.02,"d":"2%"},null,{"$f":"$D36*E36*100","v":{"v":0,"d":"0.0"}},null,{"$f":"$D36*G36*100","v":{"v":0,"d":"0.0"}},null,{"$f":"$D36*I36*100","v":{"v":0,"d":"0.0"}},null,{"$f":"$D36*K36*100","v":{"v":0,"d":"0.0"}},null,{"$f":"$D36*M36*100","v":{"v":0,"d":"0.0"}},null,"Further requirements"]
["Total 1",null,null,{"$f":"SUM(D14,D18,D22,D26,D30,D35,D36)","v":{"v":0.35000000000000003,"d":"35%"}},null,{"$f":"SUM(F14,F18,F22,F26,F30,F35,F36)","v":{"v":0,"d":"0.0"}},null,{"$f":"SUM(H14,H18,H22,H26,H30,H35,H36)","v":{"v":0,"d":"0.0"}},null,{"$f":"SUM(J14,J18,J22,J26,J30,J35,J36)","v":{"v":0,"d":"0.0"}},null,{"$f":"SUM(L14,L18,L22,L26,L30,L35,L36)","v":{"v":0,"d":"0.0"}},null,{"$f":"SUM(N14,N18,N22,N26,N30,N35,N36)","v":{"v":0,"d":"0.0"}},null,"Total 1"]
["2","Assessment of proposed staff",{"$nulls":13},"Assessment of proposed staff"]
["2.1","Team leader (in accordance with ToR provisions/criteria)",{"$nulls":13},"Team leader (in accordance with ToR provisions/criteria)"]
["2.1.1","- Qualifications",null,{"v":0.05,"d":"5%"},null,{"$f":"$D40*E40*100","v":{"v":0,"d":"0.0"}},null,{"v":0,"d":"0.0"},null,{"$f":"$D40*I40*100","v":{"v":0,"d":"0.0"}},null,{"$f":"$D40*K40*100","v":{"v":0,"d":"0.0"}},null,{"$f":"$D40*M40*100","v":{"v":0,"d":"0.0"}},null,"- Qualifications"]
["2.1.2","- Language",null,{"v":0.04,"d":"4%"},null,{"v":0,"d":"0.0"},null,{"v":0,"d":"0.0"},null,{"$f":"$D41*I41*100","v":{"v":0,"d":"0.0"}},null,{"$f":"$D41*K41*100","v":{"v":0,"d":"0.0"}},null,{"$f":"$D41*M41*100","v":{"v":0,"d":"0.0"}},null,"- Language"]
["2.1.3","- General professional experience",null,{"v":0.08,"d":"8%"},null,{"v":0,"d":"0.0"},null,{"v":0,"d":"0.0"},null,{"$f":"$D42*I42*100","v":{"v":0,"d":"0.0"}},null,{"$f":"$D42*K42*100","v":{"v":0,"d":"0.0"}},null,{"$f":"$D42*M42*100","v":{"v":0,"d":"0.0"}},null,"- General professional experience"]
["2.1.4","- Specific professional experience",null,{"v":0.08,"d":"8%"},null,{"v":0,"d":"0.0"},null,{"v":0,"d":"0.0"},null,{"$f":"$D43*I43*100","v":{"v":0,"d":"0.0"}},null,{"$f":"$D43*K43*100","v":{"v":0,"d":"0.0"}},null,{"$f":"$D43*M43*100","v":{"v":0,"d":"0.0"}},null,"- Specific professional experience"]
["2.1.5","- Leadership/management experience",null,{"v":0.08,"d":"8%"},null,{"v":0,"d":"0.0"},null,{"v":0,"d":"0.0"},null,{"$f":"$D44*I44*100","v":{"v":0,"d":"0.0"}},null,{"$f":"$D44*K44*100","v":{"v":0,"d":"0.0"}},null,{"$f":"$D44*M44*100","v":{"v":0,"d":"0.0"}},null,"- Leadership/management experience"]
["2.1.6","- Regional experience",null,{"v":0.04,"d":"4%"},null,{"v":0,"d":"0.0"},null,{"v":0,"d":"0.0"},null,{"$f":"$D45*I45*100","v":{"v":0,"d":"0.0"}},null,{"$f":"$D45*K45*100","v":{"v":0,"d":"0.0"}},null,{"$f":"$D45*M45*100","v":{"v":0,"d":"0.0"}},null,"- Regional experience"]
["2.1.7","- Development cooperation experience",null,{"v":0.02,"d":"2%"},null,{"v":0,"d":"0.0"},null,{"v":0,"d":"0.0"},null,{"$f":"$D46*I46*100","v":{"v":0,"d":"0.0"}},null,{"$f":"$D46*K46*100","v":{"v":0,"d":"0.0"}},null,{"$f":"$D46*M46*100","v":{"v":0,"d":"0.0"}},null,"- Development cooperation experience"]
["2.1.8","- Other",null,{"v":0,"d":"0%"},null,{"$f":"$D47*E47*100","v":{"v":0,"d":"0.0"}},null,{"$f":"$D47*G47*100","v":{"v":0,"d":"0.0"}},null,{"$f":"$D47*I47*100","v":{"v":0,"d":"0.0"}},null,{"$f":"$D47*K47*100","v":{"v":0,"d":"0.0"}},null,{"$f":"$D47*M47*100","v":{"v":0,"d":"0.0"}},null,"- Other"]
["Interim total 2.1",null,null,{"$f":"SUM(D40:D47)","v":{"v":0.39,"d":"39%"}},null,{"$f":"SUM(F40:F47)","v":{"v":0,"d":"0.0"}},null,{"$f":"SUM(H40:H47)","v":{"v":0,"d":"0.0"}},null,{"$f":"SUM(J40:J47)","v":{"v":0,"d":"0.0"}},null,{"$f":"SUM(L40:L47)","v":{"v":0,"d":"0.0"}},null,{"$f":"SUM(N40:N47)","v":{"v":0,"d":"0.0"}},null,"Interim total 2.1"]
["2.2","Expert 1 (in accordance with ToR provisions/criteria)",{"$nulls":13},"Expert 1 (in accordance with ToR provisions/criteria)"]
["2.2.1","- Qualifications",null,{"v":0.05,"d":"5%"},null,{"$f":"$D50*E50*100","v":{"v":0,"d":"0.0"}},null,{"v":0,"d":"0.0"},null,{"$f":"$D50*I50*100","v":{"v":0,"d":"0.0"}},null,{"$f":"$D50*K50*100","v":{"v":0,"d":"0.0"}},null,{"$f":"$D50*M50*100","v":{"v":0,"d":"0.0"}},null,"- Qualifications"]
["2.2.2","- Language",null,{"v":0.03,"d":"3%"},null,{"v":0,"d":"0.0"},null,{"v":0,"d":"0.0"},null,{"$f":"$D51*I51*100","v":{"v":0,"d":"0.0"}},null,{"$f":"$D51*K51*100","v":{"v":0,"d":"0.0"}},null,{"$f":"$D51*M51*100","v":{"v":0,"d":"0.0"}},null,"- Language"]
["2.2.3","- General professional experience",null,{"v":0.08,"d":"8%"},null,{"v":0,"d":"0.0"},null,{"v":0,"d":"0.0"},null,{"$f":"$D52*I52*100","v":{"v":0,"d":"0.0"}},null,{"$f":"$D52*K52*100","v":{"v":0,"d":"0.0"}},null,{"$f":"$D52*M52*100","v":{"v":0,"d":"0.0"}},null,"- General professional experience"]
["2.2.4","- Specific professional experience",null,{"v":0.08,"d":"8%"},null,{"v":0,"d":"0.0"},null,{"v":0,"d":"0.0"},null,{"$f":"$D53*I53*100","v":{"v":0,"d":"0.0"}},null,{"$f":"$D53*K53*100","v":{"v":0,"d":"0.0"}},null,{"$f":"$D53*M53*100","v":{"v":0,"d":"0.0"}},null,"- Specific professional experience"]
["2.2.5","- Leadership/management experience",null,{"v":0,"d":"0%"},null,{"v":0,"d":"0.0"},null,{"v":0,"d":"0.0"},null,{"$f":"$D54*I54*100","v":{"v":0,"d":"0.0"}},null,{"$f":"$D54*K54*100","v":{"v":0,"d":"0.0"}},null,{"$f":"$D54*M54*100","v":{"v":0,"d":"0.0"}},null,"- Leadership/management experience"]
["2.2.6","- Regional experience",null,{"v":0.02,"d":"2%"},null,{"v":0,"d":"0.0"},null,{"v":0,"d":"0.0"},null,{"$f":"$D55*I55*100","v":{"v":0,"d":"0.0"}},null,{"$f":"$D55*K55*100","v":{"v":0,"d":"0.0"}},null,{"$f":"$D55*M55*100","v":{"v":0,"d":"0.0"}},null,"- Regional experience"]
["2.2.7","- Development cooperation experience",null,{"v":0,"d":"0%"},null,{"v":0,"d":"0.0"},null,{"v":0,"d":"0.0"},null,{"$f":"$D56*I56*100","v":{"v":0,"d":"0.0"}},null,{"$f":"$D56*K56*100","v":{"v":0,"d":"0.0"}},null,{"$f":"$D56*M56*100","v":{"v":0,"d":"0.0"}},null,"- Development cooperation experience"]
["2.2.8","- Other",null,{"v":0,"d":"0%"},null,{"$f":"$D57*E57*100","v":{"v":0,"d":"0.0"}},null,{"$f":"$D57*G57*100","v":{"v":0,"d":"0.0"}},null,{"$f":"$D57*I57*100","v":{"v":0,"d":"0.0"}},null,{"$f":"$D57*K57*100","v":{"v":0,"d":"0.0"}},null,{"$f":"$D57*M57*100","v":{"v":0,"d":"0.0"}},null,"- Other"]
["Interim total 2.2",null,null,{"$f":"SUM(D50:D57)","v":{"v":0.26,"d":"26%"}},null,{"$f":"SUM(F50:F57)","v":{"v":0,"d":"0.0"}},null,{"$f":"SUM(H50:H57)","v":{"v":0,"d":"0.0"}},null,{"$f":"SUM(J50:J57)","v":{"v":0,"d":"0.0"}},null,{"$f":"SUM(L50:L57)","v":{"v":0,"d":"0.0"}},null,{"$f":"SUM(N50:N57)","v":{"v":0,"d":"0.0"}},null,"Interim total 2.2"]
["2.3","Expert 2 (in accordance with ToR provisions/criteria)",{"$nulls":13},"Expert 2 (in accordance with ToR provisions/criteria)"]
["2.3.1","- Qualifications",{"$nulls":3},{"$f":"$D60*E60*100","v":{"v":0,"d":"0.0"}},null,{"v":0,"d":"0.0"},null,{"$f":"$D60*I60*100","v":{"v":0,"d":"0.0"}},null,{"$f":"$D60*K60*100","v":{"v":0,"d":"0.0"}},null,{"$f":"$D60*M60*100","v":{"v":0,"d":"0.0"}},null,"- Qualifications"]
["2.3.2","- Language",{"$nulls":3},{"v":0,"d":"0.0"},null,{"v":0,"d":"0.0"},null,{"$f":"$D61*I61*100","v":{"v":0,"d":"0.0"}},null,{"$f":"$D61*K61*100","v":{"v":0,"d":"0.0"}},null,{"$f":"$D61*M61*100","v":{"v":0,"d":"0.0"}},null,"- Language"]
["2.3.3","- General professional experience",{"$nulls":3},{"v":0,"d":"0.0"},null,{"v":0,"d":"0.0"},null,{"$f":"$D62*I62*100","v":{"v":0,"d":"0.0"}},null,{"$f":"$D62*K62*100","v":{"v":0,"d":"0.0"}},null,{"$f":"$D62*M62*100","v":{"v":0,"d":"0.0"}},null,"- General professional experience"]
["2.3.4","- Specific professional experience",{"$nulls":3},{"v":0,"d":"0.0"},null,{"v":0,"d":"0.0"},null,{"$f":"$D63*I63*100","v":{"v":0,"d":"0.0"}},null,{"$f":"$D63*K63*100","v":{"v":0,"d":"0.0"}},null,{"$f":"$D63*M63*100","v":{"v":0,"d":"0.0"}},null,"- Specific professional experience"]
["2.3.5","- Leadership/management experience",{"$nulls":3},{"v":0,"d":"0.0"},null,{"v":0,"d":"0.0"},null,{"$f":"$D64*I64*100","v":{"v":0,"d":"0.0"}},null,{"$f":"$D64*K64*100","v":{"v":0,"d":"0.0"}},null,{"$f":"$D64*M64*100","v":{"v":0,"d":"0.0"}},null,"- Leadership/management experience"]
["2.3.6","- Regional experience",{"$nulls":3},{"v":0,"d":"0.0"},null,{"v":0,"d":"0.0"},null,{"$f":"$D65*I65*100","v":{"v":0,"d":"0.0"}},null,{"$f":"$D65*K65*100","v":{"v":0,"d":"0.0"}},null,{"$f":"$D65*M65*100","v":{"v":0,"d":"0.0"}},null,"- Regional experience"]
["2.3.7","- Development cooperation experience",{"$nulls":3},{"v":0,"d":"0.0"},null,{"v":0,"d":"0.0"},null,{"$f":"$D66*I66*100","v":{"v":0,"d":"0.0"}},null,{"$f":"$D66*K66*100","v":{"v":0,"d":"0.0"}},null,{"$f":"$D66*M66*100","v":{"v":0,"d":"0.0"}},null,"- Development cooperation experience"]
["2.3.8","- Other",{"$nulls":3},{"$f":"$D67*E67*100","v":{"v":0,"d":"0.0"}},null,{"$f":"$D67*G67*100","v":{"v":0,"d":"0.0"}},null,{"$f":"$D67*I67*100","v":{"v":0,"d":"0.0"}},null,{"$f":"$D67*K67*100","v":{"v":0,"d":"0.0"}},null,{"$f":"$D67*M67*100","v":{"v":0,"d":"0.0"}},null,"- Other"]
["Interim total 2.3",null,null,{"$f":"SUM(D60:D67)","v":{"v":0,"d":"0%"}},null,{"$f":"SUM(F60:F67)","v":{"v":0,"d":"0.0"}},null,{"$f":"SUM(H60:H67)","v":{"v":0,"d":"0.0"}},null,{"$f":"SUM(J60:J67)","v":{"v":0,"d":"0.0"}},null,{"$f":"SUM(L60:L67)","v":{"v":0,"d":"0.0"}},null,{"$f":"SUM(N60:N67)","v":{"v":0,"d":"0.0"}},null,"Interim total 2.3"]
["2.4","Expert 3 (in accordance with ToR provisions/criteria)",{"$nulls":13},"Expert 3 (in accordance with ToR provisions/criteria)"]
["2.4.1","- Qualifications",{"$nulls":3},{"$f":"$D70*E70*100","v":{"v":0,"d":"0.0"}},null,{"v":0,"d":"0.0"},null,{"$f":"$D70*I70*100","v":{"v":0,"d":"0.0"}},null,{"$f":"$D70*K70*100","v":{"v":0,"d":"0.0"}},null,{"$f":"$D70*M70*100","v":{"v":0,"d":"0.0"}},null,"- Qualifications"]
["2.4.2","- Language",{"$nulls":3},{"v":0,"d":"0.0"},null,{"v":0,"d":"0.0"},null,{"$f":"$D71*I71*100","v":{"v":0,"d":"0.0"}},null,{"$f":"$D71*K71*100","v":{"v":0,"d":"0.0"}},null,{"$f":"$D71*M71*100","v":{"v":0,"d":"0.0"}},null,"- Language"]
["2.4.3","- General professional experience",{"$nulls":3},{"v":0,"d":"0.0"},null,{"v":0,"d":"0.0"},null,{"$f":"$D72*I72*100","v":{"v":0,"d":"0.0"}},null,{"$f":"$D72*K72*100","v":{"v":0,"d":"0.0"}},null,{"$f":"$D72*M72*100","v":{"v":0,"d":"0.0"}},null,"- General professional experience"]
["2.4.4","- Specific professional experience",{"$nulls":3},{"v":0,"d":"0.0"},null,{"v":0,"d":"0.0"},null,{"$f":"$D73*I73*100","v":{"v":0,"d":"0.0"}},null,{"$f":"$D73*K73*100","v":{"v":0,"d":"0.0"}},null,{"$f":"$D73*M73*100","v":{"v":0,"d":"0.0"}},null,"- Specific professional experience"]
["2.4.5","- Leadership/management experience",{"$nulls":3},{"v":0,"d":"0.0"},null,{"v":0,"d":"0.0"},null,{"$f":"$D74*I74*100","v":{"v":0,"d":"0.0"}},null,{"$f":"$D74*K74*100","v":{"v":0,"d":"0.0"}},null,{"$f":"$D74*M74*100","v":{"v":0,"d":"0.0"}},null,"- Leadership/management experience"]
["2.4.6","- Regional experience",{"$nulls":3},{"v":0,"d":"0.0"},null,{"v":0,"d":"0.0"},null,{"$f":"$D75*I75*100","v":{"v":0,"d":"0.0"}},null,{"$f":"$D75*K75*100","v":{"v":0,"d":"0.0"}},null,{"$f":"$D75*M75*100","v":{"v":0,"d":"0.0"}},null,{"$f":"IF(ISBLANK(B75),A75,B75)","v":"- Regional experience"}]
["2.4.7","- Development cooperation experience",{"$nulls":3},{"v":0,"d":"0.0"},null,{"v":0,"d":"0.0"},null,{"$f":"$D76*I76*100","v":{"v":0,"d":"0.0"}},null,{"$f":"$D76*K76*100","v":{"v":0,"d":"0.0"}},null,{"$f":"$D76*M76*100","v":{"v":0,"d":"0.0"}},null,"- Development cooperation experience"]
["2.4.8","- Other",{"$nulls":3},{"$f":"$D77*E77*100","v":{"v":0,"d":"0.0"}},null,{"$f":"$D77*G77*100","v":{"v":0,"d":"0.0"}},null,{"$f":"$D77*I77*100","v":{"v":0,"d":"0.0"}},null,{"$f":"$D77*K77*100","v":{"v":0,"d":"0.0"}},null,{"$f":"$D77*M77*100","v":{"v":0,"d":"0.0"}},null,"- Other"]
["Interim total 2.4",null,null,{"$f":"SUM(D70:D77)","v":{"v":0,"d":"0%"}},null,{"$f":"SUM(F70:F77)","v":{"v":0,"d":"0.0"}},null,{"$f":"SUM(H70:H77)","v":{"v":0,"d":"0.0"}},null,{"$f":"SUM(J70:J77)","v":{"v":0,"d":"0.0"}},null,{"$f":"SUM(L70:L77)","v":{"v":0,"d":"0.0"}},null,{"$f":"SUM(N70:N77)","v":{"v":0,"d":"0.0"}},null,"Interim total 2.4"]
["2.5","Expert 4 (in accordance with ToR provisions/criteria)",{"$nulls":13},"Expert 4 (in accordance with ToR provisions/criteria)"]
["2.5.1","- Qualifications",null,{"v":0,"d":"0%"},null,{"$f":"$D80*E80*100","v":{"v":0,"d":"0.0"}},null,{"v":0,"d":"0.0"},null,{"$f":"$D80*I80*100","v":{"v":0,"d":"0.0"}},null,{"$f":"$D80*K80*100","v":{"v":0,"d":"0.0"}},null,{"$f":"$D80*M80*100","v":{"v":0,"d":"0.0"}},null,"- Qualifications"]
["2.5.2","- Language",null,{"v":0,"d":"0%"},null,{"v":0,"d":"0.0"},null,{"v":0,"d":"0.0"},null,{"$f":"$D81*I81*100","v":{"v":0,"d":"0.0"}},null,{"$f":"$D81*K81*100","v":{"v":0,"d":"0.0"}},null,{"$f":"$D81*M81*100","v":{"v":0,"d":"0.0"}},null,"- Language"]
["2.5.3","- General professional experience",null,{"v":0,"d":"0%"},null,{"v":0,"d":"0.0"},null,{"v":0,"d":"0.0"},null,{"$f":"$D82*I82*100","v":{"v":0,"d":"0.0"}},null,{"$f":"$D82*K82*100","v":{"v":0,"d":"0.0"}},null,{"$f":"$D82*M82*100","v":{"v":0,"d":"0.0"}},null,"- General professional experience"]
["2.5.4","- Specific professional experience",null,{"v":0,"d":"0%"},null,{"v":0,"d":"0.0"},null,{"v":0,"d":"0.0"},null,{"$f":"$D83*I83*100","v":{"v":0,"d":"0.0"}},null,{"$f":"$D83*K83*100","v":{"v":0,"d":"0.0"}},null,{"$f":"$D83*M83*100","v":{"v":0,"d":"0.0"}},null,"- Specific professional experience"]
["2.5.5","- Leadership/management experience",null,{"v":0,"d":"0%"},null,{"v":0,"d":"0.0"},null,{"v":0,"d":"0.0"},null,{"$f":"$D84*I84*100","v":{"v":0,"d":"0.0"}},null,{"$f":"$D84*K84*100","v":{"v":0,"d":"0.0"}},null,{"$f":"$D84*M84*100","v":{"v":0,"d":"0.0"}},null,"- Leadership/management experience"]
["2.5.6","- Regional experience",null,{"v":0,"d":"0%"},null,{"v":0,"d":"0.0"},null,{"v":0,"d":"0.0"},null,{"$f":"$D85*I85*100","v":{"v":0,"d":"0.0"}},null,{"$f":"$D85*K85*100","v":{"v":0,"d":"0.0"}},null,{"$f":"$D85*M85*100","v":{"v":0,"d":"0.0"}},null,"- Regional experience"]
["2.5.7","- Development cooperation experience",null,{"v":0,"d":"0%"},null,{"v":0,"d":"0.0"},null,{"v":0,"d":"0.0"},null,{"$f":"$D86*I86*100","v":{"v":0,"d":"0.0"}},null,{"$f":"$D86*K86*100","v":{"v":0,"d":"0.0"}},null,{"$f":"$D86*M86*100","v":{"v":0,"d":"0.0"}},null,"- Development cooperation experience"]
["2.5.8","- Other",null,{"v":0,"d":"0%"},null,{"$f":"$D87*E87*100","v":{"v":0,"d":"0.0"}},null,{"$f":"$D87*G87*100","v":{"v":0,"d":"0.0"}},null,{"$f":"$D87*I87*100","v":{"v":0,"d":"0.0"}},null,{"$f":"$D87*K87*100","v":{"v":0,"d":"0.0"}},null,{"$f":"$D87*M87*100","v":{"v":0,"d":"0.0"}},null,"- Other"]
["Interim total 2.5",null,null,{"$f":"SUM(D80:D87)","v":{"v":0,"d":"0%"}},null,{"$f":"SUM(F80:F87)","v":{"v":0,"d":"0.0"}},null,{"$f":"SUM(H80:H87)","v":{"v":0,"d":"0.0"}},null,{"$f":"SUM(J80:J87)","v":{"v":0,"d":"0.0"}},null,{"$f":"SUM(L80:L87)","v":{"v":0,"d":"0.0"}},null,{"$f":"SUM(N80:N87)","v":{"v":0,"d":"0.0"}},null,"Interim total 2.5"]
["2.6","Short-term expert pool 1 (in accordance with ToR provisions/criteria)",{"$nulls":13},"Short-term expert pool 1 (in accordance with ToR provisions/criteria)"]
["2.6.1","- Qualifications",{"$nulls":3},{"$f":"$D90*E90*100","v":{"v":0,"d":"0.0"}},null,{"v":0,"d":"0.0"},null,{"$f":"$D90*I90*100","v":{"v":0,"d":"0.0"}},null,{"$f":"$D90*K90*100","v":{"v":0,"d":"0.0"}},null,{"$f":"$D90*M90*100","v":{"v":0,"d":"0.0"}},null,"- Qualifications"]
["2.6.2","- Language",{"$nulls":3},{"v":0,"d":"0.0"},null,{"v":0,"d":"0.0"},null,{"$f":"$D91*I91*100","v":{"v":0,"d":"0.0"}},null,{"$f":"$D91*K91*100","v":{"v":0,"d":"0.0"}},null,{"$f":"$D91*M91*100","v":{"v":0,"d":"0.0"}},null,"- Language"]
["2.6.3","- General professional experience",{"$nulls":3},{"v":0,"d":"0.0"},null,{"v":0,"d":"0.0"},null,{"$f":"$D92*I92*100","v":{"v":0,"d":"0.0"}},null,{"$f":"$D92*K92*100","v":{"v":0,"d":"0.0"}},null,{"$f":"$D92*M92*100","v":{"v":0,"d":"0.0"}},null,"- General professional experience"]
["2.6.4","- Specific professional experience",{"$nulls":3},{"v":0,"d":"0.0"},null,{"v":0,"d":"0.0"},null,{"$f":"$D93*I93*100","v":{"v":0,"d":"0.0"}},null,{"$f":"$D93*K93*100","v":{"v":0,"d":"0.0"}},null,{"$f":"$D93*M93*100","v":{"v":0,"d":"0.0"}},null,"- Specific professional experience"]
["2.6.5","- Regional experience",{"$nulls":3},{"v":0,"d":"0.0"},null,{"v":0,"d":"0.0"},null,{"$f":"$D94*I94*100","v":{"v":0,"d":"0.0"}},null,{"$f":"$D94*K94*100","v":{"v":0,"d":"0.0"}},null,{"$f":"$D94*M94*100","v":{"v":0,"d":"0.0"}},null,"- Regional experience"]
["2.6.6","- Development cooperation experience",{"$nulls":3},{"v":0,"d":"0.0"},null,{"v":0,"d":"0.0"},null,{"$f":"$D95*I95*100","v":{"v":0,"d":"0.0"}},null,{"$f":"$D95*K95*100","v":{"v":0,"d":"0.0"}},null,{"$f":"$D95*M95*100","v":{"v":0,"d":"0.0"}},null,"- Development cooperation experience"]
["2.6.7","- Other",{"$nulls":3},{"$f":"$D96*E96*100","v":{"v":0,"d":"0.0"}},null,{"$f":"$D96*G96*100","v":{"v":0,"d":"0.0"}},null,{"$f":"$D96*I96*100","v":{"v":0,"d":"0.0"}},null,{"$f":"$D96*K96*100","v":{"v":0,"d":"0.0"}},null,{"$f":"$D96*M96*100","v":{"v":0,"d":"0.0"}},null,"- Other"]
["Interim total 2.6",null,null,{"$f":"SUM(D90:D96)","v":{"v":0,"d":"0%"}},null,{"$f":"SUM(F90:F96)","v":{"v":0,"d":"0.0"}},null,{"$f":"SUM(H90:H96)","v":{"v":0,"d":"0.0"}},null,{"$f":"SUM(J90:J96)","v":{"v":0,"d":"0.0"}},null,{"$f":"SUM(L90:L96)","v":{"v":0,"d":"0.0"}},null,{"$f":"SUM(N90:N96)","v":{"v":0,"d":"0.0"}},null,"Interim total 2.6"]
["2.7","Short-term expert pool 2 (in accordance with ToR provisions/criteria)",{"$nulls":13},"Short-term expert pool 2 (in accordance with ToR provisions/criteria)"]
["2.7.1","- Qualifications",null,{"v":0,"d":"0%"},null,{"$f":"$D99*E99*100","v":{"v":0,"d":"0.0"}},null,{"v":0,"d":"0.0"},null,{"$f":"$D99*I99*100","v":{"v":0,"d":"0.0"}},null,{"$f":"$D99*K99*100","v":{"v":0,"d":"0.0"}},null,{"$f":"$D99*M99*100","v":{"v":0,"d":"0.0"}},null,"- Qualifications"]
["2.7.2","- Language",null,{"v":0,"d":"0%"},null,{"v":0,"d":"0.0"},null,{"v":0,"d":"0.0"},null,{"$f":"$D100*I100*100","v":{"v":0,"d":"0.0"}},null,{"$f":"$D100*K100*100","v":{"v":0,"d":"0.0"}},null,{"$f":"$D100*M100*100","v":{"v":0,"d":"0.0"}},null,"- Language"]
["2.7.3","- General professional experience",null,{"v":0,"d":"0%"},null,{"v":0,"d":"0.0"},null,{"v":0,"d":"0.0"},null,{"$f":"$D101*I101*100","v":{"v":0,"d":"0.0"}},null,{"$f":"$D101*K101*100","v":{"v":0,"d":"0.0"}},null,{"$f":"$D101*M101*100","v":{"v":0,"d":"0.0"}},null,"- General professional experience"]
["2.7.4","- Specific professional experience",null,{"v":0,"d":"0%"},null,{"v":0,"d":"0.0"},null,{"v":0,"d":"0.0"},null,{"$f":"$D102*I102*100","v":{"v":0,"d":"0.0"}},null,{"$f":"$D102*K102*100","v":{"v":0,"d":"0.0"}},null,{"$f":"$D102*M102*100","v":{"v":0,"d":"0.0"}},null,"- Specific professional experience"]
["2.7.5","- Regional experience",null,{"v":0,"d":"0%"},null,{"v":0,"d":"0.0"},null,{"v":0,"d":"0.0"},null,{"$f":"$D103*I103*100","v":{"v":0,"d":"0.0"}},null,{"$f":"$D103*K103*100","v":{"v":0,"d":"0.0"}},null,{"$f":"$D103*M103*100","v":{"v":0,"d":"0.0"}},null,"- Regional experience"]
["2.7.6","- Development cooperation experience",null,{"v":0,"d":"0%"},null,{"v":0,"d":"0.0"},null,{"v":0,"d":"0.0"},null,{"$f":"$D104*I104*100","v":{"v":0,"d":"0.0"}},null,{"$f":"$D104*K104*100","v":{"v":0,"d":"0.0"}},null,{"$f":"$D104*M104*100","v":{"v":0,"d":"0.0"}},null,"- Development cooperation experience"]
["2.7.7","- Other",null,{"v":0,"d":"0%"},null,{"$f":"$D105*E105*100","v":{"v":0,"d":"0.0"}},null,{"$f":"$D105*G105*100","v":{"v":0,"d":"0.0"}},null,{"$f":"$D105*I105*100","v":{"v":0,"d":"0.0"}},null,{"$f":"$D105*K105*100","v":{"v":0,"d":"0.0"}},null,{"$f":"$D105*M105*100","v":{"v":0,"d":"0.0"}},null,"- Other"]
["Interim total 2.7",null,null,{"$f":"SUM(D99:D105)","v":{"v":0,"d":"0%"}},null,{"$f":"SUM(F99:F105)","v":{"v":0,"d":"0.0"}},null,{"$f":"SUM(H99:H105)","v":{"v":0,"d":"0.0"}},null,{"$f":"SUM(J99:J105)","v":{"v":0,"d":"0.0"}},null,{"$f":"SUM(L99:L105)","v":{"v":0,"d":"0.0"}},null,{"$f":"SUM(N99:N105)","v":{"v":0,"d":"0.0"}},null,"Interim total 2.7"]
["2.8","Assessment of proposed personnel for non-specified positions (provided permissible under ToRs)",{"$nulls":13},"Assessment of proposed personnel for non-specified positions (provided permissible under ToRs)"]
["2.8.1","Composition and sufficient assignment duration of the team in order to perform the tasks specified in the schedule and personnel assignment plan",null,{"v":0,"d":"0%"},null,{"$f":"$D108*E108*100","v":{"v":0,"d":"0.0"}},null,{"v":0,"d":"0.0"},null,{"$f":"$D108*I108*100","v":{"v":0,"d":"0.0"}},null,{"$f":"$D108*K108*100","v":{"v":0,"d":"0.0"}},null,{"$f":"$D108*M108*100","v":{"v":0,"d":"0.0"}},null,"Composition and sufficient assignment duration of the team in order to perform the tasks specified in the schedule and personnel assignment plan"]
["2.8.2","Qualifications and sufficient assignment duration of the team (professional experience and other specific experience) in order to process theme 1",null,{"v":0,"d":"0%"},null,{"v":0,"d":"0.0"},null,{"v":0,"d":"0.0"},null,{"$f":"$D109*I109*100","v":{"v":0,"d":"0.0"}},null,{"$f":"$D109*K109*100","v":{"v":0,"d":"0.0"}},null,{"$f":"$D109*M109*100","v":{"v":0,"d":"0.0"}},null,"Qualifications and sufficient assignment duration of the team (professional experience and other specific experience) in order to process theme 1"]
["2.8.3","Qualifications and sufficient assignment duration of the team (professional experience and other specific experience) in order to process theme 2",null,{"v":0,"d":"0%"},null,{"$f":"$D110*E110*100","v":{"v":0,"d":"0.0"}},null,{"$f":"$D110*G110*100","v":{"v":0,"d":"0.0"}},null,{"$f":"$D110*I110*100","v":{"v":0,"d":"0.0"}},null,{"$f":"$D110*K110*100","v":{"v":0,"d":"0.0"}},null,{"$f":"$D110*M110*100","v":{"v":0,"d":"0.0"}},null,"Qualifications and sufficient assignment duration of the team (professional experience and other specific experience) in order to process theme 2"]
["Interim total 2.8",null,null,{"$f":"SUM(D108:D110)","v":{"v":0,"d":"0%"}},null,{"$f":"SUM(F108:F110)","v":{"v":0,"d":"0.0"}},null,{"$f":"SUM(H108:H110)","v":{"v":0,"d":"0.0"}},null,{"$f":"SUM(J108:J110)","v":{"v":0,"d":"0.0"}},null,{"$f":"SUM(L108:L110)","v":{"v":0,"d":"0.0"}},null,{"$f":"SUM(N108:N110)","v":{"v":0,"d":"0.0"}},null,"Interim total 2.8"]
["Total 2",null,null,{"$f":"SUM(D48,D58,D68,D78,D88,D97,D106,D111)","v":{"v":0.65,"d":"65%"}},null,{"$f":"SUM(F48,F58,F68,F78,F88,F97,F106,F111)","v":{"v":0,"d":"0.0"}},null,{"$f":"SUM(H48,H58,H68,H78,H88,H97,H106,H111)","v":{"v":0,"d":"0.0"}},null,{"$f":"SUM(J48,J58,J68,J78,J88,J97,J106,J111)","v":{"v":0,"d":"0.0"}},null,{"$f":"SUM(L48,L58,L68,L78,L88,L97,L106,L111)","v":{"v":0,"d":"0.0"}},null,{"$f":"SUM(N48,N58,N68,N78,N88,N97,N106,N111)","v":{"v":0,"d":"0.0"}},null,"Total 2"]
["Overall total 1 + 2",null,null,{"$f":"D37+D112","v":{"v":1,"d":"100%"}},null,{"$f":"F37+F112","v":{"v":0,"d":"0.0"}},null,{"$f":"H37+H112","v":{"v":0,"d":"0.0"}},null,{"$f":"J37+J112","v":{"v":0,"d":"0.0"}},null,{"$f":"L37+L112","v":{"v":0,"d":"0.0"}},null,{"$f":"N37+N112","v":{"v":0,"d":"0.0"}},null,"Overall total 1 + 2"]
["Assessment in %",{"$nulls":4},{"$f":"F113/1000","v":{"v":0,"d":"0.0"}},null,{"$f":"H113/1000","v":{"v":0,"d":"0.0"}},null,{"$f":"J113/1000","v":{"v":0,"d":"0.0"}},null,{"$f":"L113/1000","v":{"v":0,"d":"0.0"}},null,{"$f":"N113/1000","v":{"v":0,"d":"0.0"}},null,"Assessment in %"]
["Ranking",{"$nulls":4},{"$f":"_xlfn.RANK.EQ(F114,Wertung)","v":{"v":1,"d":"1.0"}},null,{"$f":"_xlfn.RANK.EQ(H114,Wertung)","v":{"v":1,"d":"1.0"}},null,{"$f":"_xlfn.RANK.EQ(J114,Wertung)","v":{"v":1,"d":"1.0"}},null,{"$f":"_xlfn.RANK.EQ(L114,Wertung)","v":{"v":1,"d":"1.0"}},null,{"$f":"_xlfn.RANK.EQ(N114,Wertung)","v":{"v":1,"d":"1.0"}},null,"Ranking"]
[]
["I hereby declare that I completed this assessment independently, to the best of my knowledge and in good faith. I will treat the information confidentially and will not pass on any details of the ongoing assessment procedure."]
[]
[{"$nulls":8},"Date, signature"]

{"sheet":"Bidder 6-10","index":1,"n_rows":119,"n_cols":16,"rows_kept":119,"merged":[[0,0,0,9],[0,11,0,13],[1,0,1,1],[1,2,1,4],[1,6,1,7],[1,12,1,13],[2,0,2,1],[2,2,2,4],[2,6,4,10],[2,12,2,13],[3,0,3,1],[3,2,3,4],[3,12,3,13],[4,0,4,1],[4,2,4,4],[4,12,4,13],[4,14,5,14],[5,4,5,5],[5,6,5,7],[5,8,5,9],[5,10,5,11],[5,12,5,13],[6,1,6,2],[7,1,7,2],[8,1,8,2],[9,1,9,13],[10,1,10,2],[11,1,11,2],[12,1,12,2],[13,0,13,2],[14,1,14,2],[15,1,15,2],[16,1,16,2],[17,0,17,2],[18,1,18,2],[19,1,19,2],[20,1,20,2],[21,0,21,2],[22,1,22,2],[23,1,23,2],[24,1,24,2],[25,0,25,2],[26,1,26,2],[27,1,27,2],[28,1,28,2],[29,0,29,2],[30,1,30,2],[31,1,31,2],[32,1,32,2],[33,1,33,2],[34,0,34,2],[35,1,35,2],[36,0,36,2],[37,1,37,13],[38,1,38,2],[39,1,39,2],[40,1,40,2],[41,1,41,2],[42,1,42,2],[43,1,43,2],[44,1,44,2],[45,1,45,2],[46,1,46,2],[47,0,47,2],[48,1,48,2],[49,1,49,2],[50,1,50,2],[51,1,51,2],[52,1,52,2],[53,1,53,2],[54,1,54,2],[55,1,55,2],[56,1,56,2],[57,0,57,2],[58,1,58,2],[59,1,59,2],[60,1,60,2],[61,1,61,2],[62,1,62,2],[63,1,63,2],[64,1,64,2],[65,1,65,2],[66,1,66,2],[67,0,67,2],[68,1,68,2],[69,1,69,2],[70,1,70,2],[71,1,71,2],[72,1,72,2],[73,1,73,2],[74,1,74,2],[75,1,75,2],[76,1,76,2],[77,0,77,2],[78,1,78,2],[79,1,79,2],[80,1,80,2],[81,1,81,2],[82,1,82,2],[83,1,83,2],[84,1,84,2],[85,1,85,2],[86,1,86,2],[87,0,87,2],[88,1,88,2],[89,1,89,2],[90,1,90,2],[91,1,91,2],[92,1,92,2],[93,1,93,2],[94,1,94,2],[95,1,95,2],[96,0,96,2],[97,1,97,2],[98,1,98,2],[99,1,99,2],[100,1,100,2],[101,1,101,2],[102,1,102,2],[103,1,103,2],[104,1,104,2],[105,0,105,2],[106,1,106,2],[107,1,107,2],[108,1,108,2],[109,1,109,2],[110,0,110,2],[111,0,111,2],[112,0,112,2],[113,0,113,2],[114,0,114,2],[116,0,116,13],[117,0,117,2],[117,8,117,13],[118,8,118,13]]}
["Grid for the technical assessment of bids above the EU threshold",{"$nulls":13},"Bidder 6 to 10"]
["Org. unit",null,{"$f":"'Bidder 1-5'!C2:E2","v":"NRM/CC"},{"$nulls":3},"Project title",{"$nulls":4},"Date",{"$f":"'Bidder 1-5'!M2:N2","v":"Date"}]
["Officer responsible for the commission",null,{"$f":"'Bidder 1-5'!C3:E3","v":0},{"$nulls":3},{"$f":"'Bidder 1-5'!G3:K5","v":"Project title: Engagement of Technical agency for Green Recovery Action Plan on Climate Resilient Livelihood for Migrants"},{"$nulls":4},"PN",{"$f":"'Bidder 1-5'!M3:N3","v":"PN: 18.2255.0-001"}]
["Assessor",null,{"$f":"'Bidder 1-5'!C4:E4","v":"Name"},{"$nulls":8},"Contract no.",{"$f":"'Bidder 1-5'!M4:N4","v":"Contract no."}]
["Version",null,{"$f":"'Bidder 1-5'!C5:E5","v":"Individual assessment/overall assessment"},{"$nulls":9},"Bidder 6 to 10 of 10"]
[{"$nulls":4},"Enter bidder 6",null,"Enter bidder 7",null,"Enter bidder 8",null,"Enter bidder 9",null,"Enter bidder 10"]
[null,"(1)",null,"(2)","(3)","(4)","(3)","(4)","(3)","(4)","(3)","(4)","(3)","(4)"]
[null,"Criterion",null,"Weighting","Points","Assessment","Points","Assessment","Points","Assessment","Points","Assessment","Points","Assessment"]
[{"$nulls":3},"in %","(max.10)","(2)x(3)","(max.10)","(2)x(3)","(max.10)","(2)x(3)","(max.10)","(2)x(3)","(max.10)","(2)x(3)"]
["1","Assessment of technical-methodological design",{"$nulls":13},{"$f":"IF(ISBLANK(B10),A10,B10)","v":"Assessment of technical-methodological design"}]
["1.1","Strategy",{"$nulls":13},{"$f":"IF(ISBLANK(B11),A11,B11)","v":"Strategy"}]
["1.1.1","Interpretation of the objectives in the ToRs, critical examination of tasks",null,{"$f":"'Bidder 1-5'!D12","v":{"v":0.03,"d":"3%"}},null,{"$f":"$D12*E12*100","v":{"v":0,"d":"0.0"}},null,{"$f":"$D12*G12*100","v":{"v":0,"d":"0.0"}},null,{"$f":"$D12*I12*100","v":{"v":0,"d":"0.0"}},null,{"$f":"$D12*K12*100","v":{"v":0,"d":"0.0"}},null,{"$f":"$D12*M12*100","v":{"v":0,"d":"0.0"}},null,"Interpretation of the objectives in the ToRs, critical examination of tasks"]
["1.1.2","Description and justification of the contractor's strategy for delivering the services put out to tender.",null,{"$f":"'Bidder 1-5'!D13","v":{"v":0.05,"d":"5%"}},null,{"$f":"$D13*E13*100","v":{"v":0,"d":"0.0"}},null,{"$f":"$D13*G13*100","v":{"v":0,"d":"0.0"}},null,{"$f":"$D13*I13*100","v":{"v":0,"d":"0.0"}},null,{"$f":"$D13*K13*100","v":{"v":0,"d":"0.0"}},null,{"$f":"$D13*M13*100","v":{"v":0,"d":"0.0"}},null,"Description and justification of the contractor's strategy for delivering the services put out to tender."]
["Interim total 1.1",null,null,{"$f":"'Bidder 1-5'!D14","v":{"v":0.08,"d":"8%"}},null,{"$f":"SUM(F12:F13)","v":{"v":0,"d":"0.0"}},null,{"$f":"SUM(H12:H13)","v":{"v":0,"d":"0.0"}},null,{"$f":"SUM(J12:J13)","v":{"v":0,"d":"0.0"}},null,{"$f":"SUM(L12:L13)","v":{"v":0,"d":"0.0"}},null,{"$f":"SUM(N12:N13)","v":{"v":0,"d":"0.0"}},null,"Interim total 1.1"]
["1.2","Cooperation",{"$nulls":13},"Cooperation"]
["1.2.1","Presentation and interaction between the relevant actors in the contractor's area of responsibility",null,{"$f":"'Bidder 1-5'!D16","v":{"v":0.02,"d":"2%"}},null,{"$f":"$D16*E16*100","v":{"v":0,"d":"0.0"}},null,{"$f":"$D16*G16*100","v":{"v":0,"d":"0.0"}},null,{"$f":"$D16*I16*100","v":{"v":0,"d":"0.0"}},null,{"$f":"$D16*K16*100","v":{"v":0,"d":"0.0"}},null,{"$f":"$D16*M16*100","v":{"v":0,"d":"0.0"}},null,"Presentation and interaction between the relevant actors in the contractor's area of responsibility"]
["1.2.2","Strategy for establishing cooperation and then cooperating with the relevant actors",null,{"$f":"'Bidder 1-5'!D17","v":{"v":0.03,"d":"3%"}},null,{"$f":"$D17*E17*100","v":{"v":0,"d":"0.0"}},null,{"$f":"$D17*G17*100","v":{"v":0,"d":"0.0"}},null,{"$f":"$D17*I17*100","v":{"v":0,"d":"0.0"}},null,{"$f":"$D17*K17*100","v":{"v":0,"d":"0.0"}},null,{"$f":"$D17*M17*100","v":{"v":0,"d":"0.0"}},null,"Strategy for establishing cooperation and then cooperating with the relevant actors"]
["Interim total 1.2",null,null,{"$f":"'Bidder 1-5'!D18","v":{"v":0.05,"d":"5%"}},null,{"$f":"SUM(F16:F17)","v":{"v":0,"d":"0.0"}},null,{"$f":"SUM(H16:H17)","v":{"v":0,"d":"0.0"}},null,{"$f":"SUM(J16:J17)","v":{"v":0,"d":"0.0"}},null,{"$f":"SUM(L16:L17)","v":{"v":0,"d":"0.0"}},null,{"$f":"SUM(N16:N17)","v":{"v":0,"d":"0.0"}},null,"Interim total 1.2"]
["1.3","Steering structure",{"$nulls":13},"Steering structure"]
["1.3.1","Approach and procedure for steering the measures with the project partners",null,{"$f":"'Bidder 1-5'!D20","v":{"v":0.02,"d":"2%"}},null,{"$f":"$D20*E20*100","v":{"v":0,"d":"0.0"}},null,{"$f":"$D20*G20*100","v":{"v":0,"d":"0.0"}},null,{"$f":"$D20*I20*100","v":{"v":0,"d":"0.0"}},null,{"$f":"$D20*K20*100","v":{"v":0,"d":"0.0"}},null,{"$f":"$D20*M20*100","v":{"v":0,"d":"0.0"}},null,"Approach and procedure for steering the measures with the project partners"]
["1.3.2","Description of contractor's contribution to results monitoring and the associated challenges",null,{"$f":"'Bidder 1-5'!D21","v":{"v":0.02,"d":"2%"}},null,{"$f":"$D21*E21*100","v":{"v":0,"d":"0.0"}},null,{"$f":"$D21*G21*100","v":{"v":0,"d":"0.0"}},null,{"$f":"$D21*I21*100","v":{"v":0,"d":"0.0"}},null,{"$f":"$D21*K21*100","v":{"v":0,"d":"0.0"}},null,{"$f":"$D21*M21*100","v":{"v":0,"d":"0.0"}},null,"Description of contractor's contribution to results monitoring and the associated challenges"]
["Interim total 1.3",null,null,{"$f":"'Bidder 1-5'!D22","v":{"v":0.04,"d":"4%"}},null,{"$f":"SUM(F20:F21)","v":{"v":0,"d":"0.0"}},null,{"$f":"SUM(H20:H21)","v":{"v":0,"d":"0.0"}},null,{"$f":"SUM(J20:J21)","v":{"v":0,"d":"0.0"}},null,{"$f":"SUM(L20:L21)","v":{"v":0,"d":"0.0"}},null,{"$f":"SUM(N20:N21)","v":{"v":0,"d":"0.0"}},null,"Interim total 1.3"]
["1.4","Processes",{"$nulls":13},"Processes"]
["1.4.1","Presentation and explanation of the implementation plan: work steps, milestones, schedule",null,{"$f":"'Bidder 1-5'!D24","v":{"v":0.04,"d":"4%"}},null,{"$f":"$D24*E24*100","v":{"v":0,"d":"0.0"}},null,{"$f":"$D24*G24*100","v":{"v":0,"d":"0.0"}},null,{"$f":"$D24*I24*100","v":{"v":0,"d":"0.0"}},null,{"$f":"$D24*K24*100","v":{"v":0,"d":"0.0"}},null,{"$f":"$D24*M24*100","v":{"v":0,"d":"0.0"}},null,"Presentation and explanation of the implementation plan: work steps, milestones, schedule"]
["1.4.2","Presentation and explanation of the integration of the partner contributions",null,{"$f":"'Bidder 1-5'!D25","v":{"v":0.02,"d":"2%"}},null,{"$f":"$D25*E25*100","v":{"v":0,"d":"0.0"}},null,{"$f":"$D25*G25*100","v":{"v":0,"d":"0.0"}},null,{"$f":"$D25*I25*100","v":{"v":0,"d":"0.0"}},null,{"$f":"$D25*K25*100","v":{"v":0,"d":"0.0"}},null,{"$f":"$D25*M25*100","v":{"v":0,"d":"0.0"}},null,"Presentation and explanation of the integration of the partner contributions"]
["Interim total 1.4",null,null,{"$f":"'Bidder 1-5'!D26","v":{"v":0.06,"d":"6%"}},null,{"$f":"SUM(F24:F25)","v":{"v":0,"d":"0.0"}},null,{"$f":"SUM(H24:H25)","v":{"v":0,"d":"0.0"}},null,{"$f":"SUM(J24:J25)","v":{"v":0,"d":"0.0"}},null,{"$f":"SUM(L24:L25)","v":{"v":0,"d":"0.0"}},null,{"$f":"SUM(N24:N25)","v":{"v":0,"d":"0.0"}},null,"Interim total 1.4"]
["1.5","Learning and innovation",{"$nulls":13},"Learning and innovation"]
["1.5.1","Contractor's contribution to knowledge management at the partner and at GIZ",null,{"$f":"'Bidder 1-5'!D28","v":{"v":0.02,"d":"2%"}},null,{"$f":"$D28*E28*100","v":{"v":0,"d":"0.0"}},null,{"$f":"$D28*G28*100","v":{"v":0,"d":"0.0"}},null,{"$f":"$D28*I28*100","v":{"v":0,"d":"0.0"}},null,{"$f":"$D28*K28*100","v":{"v":0,"d":"0.0"}},null,{"$f":"$D28*M28*100","v":{"v":0,"d":"0.0"}},null,"Contractor's contribution to knowledge management at the partner and at GIZ"]
["1.5.2","Presentation and explanation of the measures undertaken by the contractor to promote scaling-up effects",null,{"$f":"'Bidder 1-5'!D29","v":{"v":0.02,"d":"2%"}},null,{"$f":"$D29*E29*100","v":{"v":0,"d":"0.0"}},null,{"$f":"$D29*G29*100","v":{"v":0,"d":"0.0"}},null,{"$f":"$D29*I29*100","v":{"v":0,"d":"0.0"}},null,{"$f":"$D29*K29*100","v":{"v":0,"d":"0.0"}},null,{"$f":"$D29*M29*100","v":{"v":0,"d":"0.0"}},null,"Presentation and explanation of the measures undertaken by the contractor to promote scaling-up effects"]
["Interim total 1.5",null,null,{"$f":"'Bidder 1-5'!D30","v":{"v":0.04,"d":"4%"}},null,{"$f":"SUM(F28:F29)","v":{"v":0,"d":"0.0"}},null,{"$f":"SUM(H28:H29)","v":{"v":0,"d":"0.0"}},null,{"$f":"SUM(J28:J29)","v":{"v":0,"d":"0.0"}},null,{"$f":"SUM(L28:L29)","v":{"v":0,"d":"0.0"}},null,{"$f":"SUM(N28:N29)","v":{"v":0,"d":"0.0"}},null,"Interim total 1.5"]
["1.6","Project management of the contractor",{"$nulls":13},"Project management of the contractor"]
["1.6.1","Approach and procedure for coordination with/in GIZ project",null,{"$f":"'Bidder 1-5'!D32","v":{"v":0.02,"d":"2%"}},null,{"$f":"$D32*E32*100","v":{"v":0,"d":"0.0"}},null,{"$f":"$D32*G32*100","v":{"v":0,"d":"0.0"}},null,{"$f":"$D32*I32*100","v":{"v":0,"d":"0.0"}},null,{"$f":"$D32*K32*100","v":{"v":0,"d":"0.0"}},null,{"$f":"$D32*M32*100","v":{"v":0,"d":"0.0"}},null,"Approach and procedure for coordination with/in GIZ project"]
["1.6.2","Personnel assignment plan (who, when, what work steps) incl. explanation and specification of expert months",null,{"$f":"'Bidder 1-5'!D33","v":{"v":0.02,"d":"2%"}},null,{"$f":"$D33*E33*100","v":{"v":0,"d":"0.0"}},null,{"$f":"$D33*G33*100","v":{"v":0,"d":"0.0"}},null,{"$f":"$D33*I33*100","v":{"v":0,"d":"0.0"}},null,{"$f":"$D33*K33*100","v":{"v":0,"d":"0.0"}},null,{"$f":"$D33*M33*100","v":{"v":0,"d":"0.0"}},null,"Personnel assignment plan (who, when, what work steps) incl. explanation and specification of expert months"]
["1.6.3","Contractor's backstopping strategy (incl. CVs of the technical and administrative backstopper)",null,{"$f":"'Bidder 1-5'!D34","v":{"v":0.02,"d":"2%"}},null,{"$f":"$D34*E34*100","v":{"v":0,"d":"0.0"}},null,{"$f":"$D34*G34*100","v":{"v":0,"d":"0.0"}},null,{"$f":"$D34*I34*100","v":{"v":0,"d":"0.0"}},null,{"$f":"$D34*K34*100","v":{"v":0,"d":"0.0"}},null,{"$f":"$D34*M34*100","v":{"v":0,"d":"0.0"}},null,"Contractor's backstopping strategy (incl. CVs of the technical and administrative backstopper)"]
["Interim total 1.6",null,null,{"$f":"'Bidder 1-5'!D35","v":{"v":0.06,"d":"6%"}},null,{"$f":"SUM(F32:F34)","v":{"v":0,"d":"0.0"}},null,{"$f":"SUM(H32:H34)","v":{"v":0,"d":"0.0"}},null,{"$f":"SUM(J32:J34)","v":{"v":0,"d":"0.0"}},null,{"$f":"SUM(L32:L34)","v":{"v":0,"d":"0.0"}},null,{"$f":"SUM(N32:N34)","v":{"v":0,"d":"0.0"}},null,"Interim total 1.6"]
["1.7","Further requirements",null,{"$f":"'Bidder 1-5'!D36","v":{"v":0.02,"d":"2%"}},null,{"$f":"$D36*E36*100","v":{"v":0,"d":"0.0"}},null,{"$f":"$D36*G36*100","v":{"v":0,"d":"0.0"}},null,{"$f":"$D36*I36*100","v":{"v":0,"d":"0.0"}},null,{"$f":"$D36*K36*100","v":{"v":0,"d":"0.0"}},null,{"$f":"$D36*M36*100","v":{"v":0,"d":"0.0"}},null,"Further requirements"]
["Total 1",null,null,{"$f":"'Bidder 1-5'!D37","v":{"v":0.35000000000000003,"d":"35%"}},null,{"$f":"SUM(F14,F18,F22,F26,F30,F35,F36)","v":{"v":0,"d":"0.0"}},null,{"$f":"SUM(H14,H18,H22,H26,H30,H35,H36)","v":{"v":0,"d":"0.0"}},null,{"$f":"SUM(J14,J18,J22,J26,J30,J35,J36)","v":{"v":0,"d":"0.0"}},null,{"$f":"SUM(L14,L18,L22,L26,L30,L35,L36)","v":{"v":0,"d":"0.0"}},null,{"$f":"SUM(N14,N18,N22,N26,N30,N35,N36)","v":{"v":0,"d":"0.0"}},null,"Total 1"]
["2","Assessment of proposed staff",{"$nulls":13},"Assessment of proposed staff"]
["2.1","Team leader (in accordance with ToR provisions/criteria)",{"$nulls":13},"Team leader (in accordance with ToR provisions/criteria)"]
["2.1.1","- Qualifications",null,{"$f":"'Bidder 1-5'!D40","v":{"v":0.05,"d":"5%"}},null,{"$f":"$D40*E40*100","v":{"v":0,"d":"0.0"}},null,{"v":0,"d":"0.0"},null,{"$f":"$D40*I40*100","v":{"v":0,"d":"0.0"}},null,{"$f":"$D40*K40*100","v":{"v":0,"d":"0.0"}},null,{"$f":"$D40*M40*100","v":{"v":0,"d":"0.0"}},null,"- Qualifications"]
["2.1.2","- Language",null,{"$f":"'Bidder 1-5'!D41","v":{"v":0.04,"d":"4%"}},null,{"v":0,"d":"0.0"},null,{"v":0,"d":"0.0"},null,{"v":0,"d":"0.0"},null,{"v":0,"d":"0.0"},null,{"v":0,"d":"0.0"},null,"- Language"]
["2.1.3","- General professional experience",null,{"$f":"'Bidder 1-5'!D42","v":{"v":0.08,"d":"8%"}},null,{"v":0,"d":"0.0"},null,{"v":0,"d":"0.0"},null,{"v":0,"d":"0.0"},null,{"v":0,"d":"0.0"},null,{"v":0,"d":"0.0"},null,"- General professional experience"]
["2.1.4","- Specific professional experience",null,{"$f":"'Bidder 1-5'!D43","v":{"v":0.08,"d":"8%"}},null,{"v":0,"d":"0.0"},null,{"v":0,"d":"0.0"},null,{"v":0,"d":"0.0"},null,{"v":0,"d":"0.0"},null,{"v":0,"d":"0.0"},null,"- Specific professional experience"]
["2.1.5","- Leadership/management experience",null,{"$f":"'Bidder 1-5'!D44","v":{"v":0.08,"d":"8%"}},null,{"v":0,"d":"0.0"},null,{"v":0,"d":"0.0"},null,{"v":0,"d":"0.0"},null,{"v":0,"d":"0.0"},null,{"v":0,"d":"0.0"},null,"- Leadership/management experience"]
["2.1.6","- Regional experience",null,{"$f":"'Bidder 1-5'!D45","v":{"v":0.04,"d":"4%"}},null,{"v":0,"d":"0.0"},null,{"v":0,"d":"0.0"},null,{"v":0,"d":"0.0"},null,{"v":0,"d":"0.0"},null,{"v":0,"d":"0.0"},null,"- Regional experience"]
["2.1.7","- Development cooperation experience",null,{"$f":"'Bidder 1-5'!D46","v":{"v":0.02,"d":"2%"}},null,{"v":0,"d":"0.0"},null,{"v":0,"d":"0.0"},null,{"v":0,"d":"0.0"},null,{"v":0,"d":"0.0"},null,{"v":0,"d":"0.0"},null,"- Development cooperation experience"]
["2.1.8","- Other",null,{"$f":"'Bidder 1-5'!D47","v":{"v":0,"d":"0%"}},null,{"$f":"$D47*E47*100","v":{"v":0,"d":"0.0"}},null,{"$f":"$D47*G47*100","v":{"v":0,"d":"0.0"}},null,{"$f":"$D47*I47*100","v":{"v":0,"d":"0.0"}},null,{"$f":"$D47*K47*100","v":{"v":0,"d":"0.0"}},null,{"$f":"$D47*M47*100","v":{"v":0,"d":"0.0"}},null,"- Other"]
["Interim total 2.1",null,null,{"$f":"'Bidder 1-5'!D48","v":{"v":0.39,"d":"39%"}},null,{"$f":"SUM(F40:F47)","v":{"v":0,"d":"0.0"}},null,{"$f":"SUM(H40:H47)","v":{"v":0,"d":"0.0"}},null,{"$f":"SUM(J40:J47)","v":{"v":0,"d":"0.0"}},null,{"$f":"SUM(L40:L47)","v":{"v":0,"d":"0.0"}},null,{"$f":"SUM(N40:N47)","v":{"v":0,"d":"0.0"}},null,"Interim total 2.1"]
["2.2","Expert 1 (in accordance with ToR provisions/criteria)",{"$nulls":13},"Expert 1 (in accordance with ToR provisions/criteria)"]
["2.2.1","- Qualifications",null,{"$f":"'Bidder 1-5'!D50","v":{"v":0.05,"d":"5%"}},null,{"$f":"$D50*E50*100","v":{"v":0,"d":"0.0"}},null,{"v":0,"d":"0.0"},null,{"$f":"$D50*I50*100","v":{"v":0,"d":"0.0"}},null,{"$f":"$D50*K50*100","v":{"v":0,"d":"0.0"}},null,{"$f":"$D50*M50*100","v":{"v":0,"d":"0.0"}},null,"- Qualifications"]
["2.2.2","- Language",null,{"$f":"'Bidder 1-5'!D51","v":{"v":0.03,"d":"3%"}},null,{"v":0,"d":"0.0"},null,{"v":0,"d":"0.0"},null,{"v":0,"d":"0.0"},null,{"v":0,"d":"0.0"},null,{"v":0,"d":"0.0"},null,"- Language"]
["2.2.3","- General professional experience",null,{"$f":"'Bidder 1-5'!D52","v":{"v":0.08,"d":"8%"}},null,{"v":0,"d":"0.0"},null,{"v":0,"d":"0.0"},null,{"v":0,"d":"0.0"},null,{"v":0,"d":"0.0"},null,{"v":0,"d":"0.0"},null,"- General professional experience"]
["2.2.4","- Specific professional experience",null,{"$f":"'Bidder 1-5'!D53","v":{"v":0.08,"d":"8%"}},null,{"v":0,"d":"0.0"},null,{"v":0,"d":"0.0"},null,{"v":0,"d":"0.0"},null,{"v":0,"d":"0.0"},null,{"v":0,"d":"0.0"},null,"- Specific professional experience"]
["2.2.5","- Leadership/management experience",null,{"$f":"'Bidder 1-5'!D54","v":{"v":0,"d":"0%"}},null,{"v":0,"d":"0.0"},null,{"v":0,"d":"0.0"},null,{"v":0,"d":"0.0"},null,{"v":0,"d":"0.0"},null,{"v":0,"d":"0.0"},null,"- Leadership/management experience"]
["2.2.6","- Regional experience",null,{"$f":"'Bidder 1-5'!D55","v":{"v":0.02,"d":"2%"}},null,{"v":0,"d":"0.0"},null,{"v":0,"d":"0.0"},null,{"v":0,"d":"0.0"},null,{"v":0,"d":"0.0"},null,{"v":0,"d":"0.0"},null,"- Regional experience"]
["2.2.7","- Development cooperation experience",null,{"$f":"'Bidder 1-5'!D56","v":{"v":0,"d":"0%"}},null,{"v":0,"d":"0.0"},null,{"v":0,"d":"0.0"},null,{"v":0,"d":"0.0"},null,{"v":0,"d":"0.0"},null,{"v":0,"d":"0.0"},null,"- Development cooperation experience"]
["2.2.8","- Other",null,{"$f":"'Bidder 1-5'!D57","v":{"v":0,"d":"0%"}},null,{"$f":"$D57*E57*100","v":{"v":0,"d":"0.0"}},null,{"$f":"$D57*G57*100","v":{"v":0,"d":"0.0"}},null,{"$f":"$D57*I57*100","v":{"v":0,"d":"0.0"}},null,{"$f":"$D57*K57*100","v":{"v":0,"d":"0.0"}},null,{"$f":"$D57*M57*100","v":{"v":0,"d":"0.0"}},null,"- Other"]
["Interim total 2.2",null,null,{"$f":"'Bidder 1-5'!D58","v":{"v":0.26,"d":"26%"}},null,{"$f":"SUM(F50:F57)","v":{"v":0,"d":"0.0"}},null,{"$f":"SUM(H50:H57)","v":{"v":0,"d":"0.0"}},null,{"$f":"SUM(J50:J57)","v":{"v":0,"d":"0.0"}},null,{"$f":"SUM(L50:L57)","v":{"v":0,"d":"0.0"}},null,{"$f":"SUM(N50:N57)","v":{"v":0,"d":"0.0"}},null,"Interim total 2.2"]
["2.3","Expert 2 (in accordance with ToR provisions/criteria)",{"$nulls":13},"Expert 2 (in accordance with ToR provisions/criteria)"]
["2.3.1","- Qualifications",null,{"$f":"'Bidder 1-5'!D60","v":{"v":0,"d":"0%"}},null,{"$f":"$D60*E60*100","v":{"v":0,"d":"0.0"}},null,{"v":0,"d":"0.0"},null,{"$f":"$D60*I60*100","v":{"v":0,"d":"0.0"}},null,{"$f":"$D60*K60*100","v":{"v":0,"d":"0.0"}},null,{"$f":"$D60*M60*100","v":{"v":0,"d":"0.0"}},null,"- Qualifications"]
["2.3.2","- Language",null,{"$f":"'Bidder 1-5'!D61","v":{"v":0,"d":"0%"}},null,{"v":0,"d":"0.0"},null,{"v":0,"d":"0.0"},null,{"v":0,"d":"0.0"},null,{"v":0,"d":"0.0"},null,{"v":0,"d":"0.0"},null,"- Language"]
["2.3.3","- General professional experience",null,{"$f":"'Bidder 1-5'!D62","v":{"v":0,"d":"0%"}},null,{"v":0,"d":"0.0"},null,{"v":0,"d":"0.0"},null,{"v":0,"d":"0.0"},null,{"v":0,"d":"0.0"},null,{"v":0,"d":"0.0"},null,"- General professional experience"]
["2.3.4","- Specific professional experience",null,{"$f":"'Bidder 1-5'!D63","v":{"v":0,"d":"0%"}},null,{"v":0,"d":"0.0"},null,{"v":0,"d":"0.0"},null,{"v":0,"d":"0.0"},null,{"v":0,"d":"0.0"},null,{"v":0,"d":"0.0"},null,"- Specific professional experience"]
["2.3.5","- Leadership/management experience",null,{"$f":"'Bidder 1-5'!D64","v":{"v":0,"d":"0%"}},null,{"v":0,"d":"0.0"},null,{"v":0,"d":"0.0"},null,{"v":0,"d":"0.0"},null,{"v":0,"d":"0.0"},null,{"v":0,"d":"0.0"},null,"- Leadership/management experience"]
["2.3.6","- Regional experience",null,{"$f":"'Bidder 1-5'!D65","v":{"v":0,"d":"0%"}},null,{"v":0,"d":"0.0"},null,{"v":0,"d":"0.0"},null,{"v":0,"d":"0.0"},null,{"v":0,"d":"0.0"},null,{"v":0,"d":"0.0"},null,"- Regional experience"]
["2.3.7","- Development cooperation experience",null,{"$f":"'Bidder 1-5'!D66","v":{"v":0,"d":"0%"}},null,{"v":0,"d":"0.0"},null,{"v":0,"d":"0.0"},null,{"v":0,"d":"0.0"},null,{"v":0,"d":"0.0"},null,{"v":0,"d":"0.0"},null,"- Development cooperation experience"]
["2.3.8","- Other",null,{"$f":"'Bidder 1-5'!D67","v":{"v":0,"d":"0%"}},null,{"$f":"$D67*E67*100","v":{"v":0,"d":"0.0"}},null,{"$f":"$D67*G67*100","v":{"v":0,"d":"0.0"}},null,{"$f":"$D67*I67*100","v":{"v":0,"d":"0.0"}},null,{"$f":"$D67*K67*100","v":{"v":0,"d":"0.0"}},null,{"$f":"$D67*M67*100","v":{"v":0,"d":"0.0"}},null,"- Other"]
["Interim total 2.3",null,null,{"$f":"'Bidder 1-5'!D68","v":{"v":0,"d":"0%"}},null,{"$f":"SUM(F60:F67)","v":{"v":0,"d":"0.0"}},null,{"$f":"SUM(H60:H67)","v":{"v":0,"d":"0.0"}},null,{"$f":"SUM(J60:J67)","v":{"v":0,"d":"0.0"}},null,{"$f":"SUM(L60:L67)","v":{"v":0,"d":"0.0"}},null,{"$f":"SUM(N60:N67)","v":{"v":0,"d":"0.0"}},null,"Interim total 2.3"]
["2.4","Expert 3 (in accordance with ToR provisions/criteria)",{"$nulls":13},"Expert 3 (in accordance with ToR provisions/criteria)"]
["2.4.1","- Qualifications",null,{"$f":"'Bidder 1-5'!D70","v":{"v":0,"d":"0%"}},null,{"$f":"$D70*E70*100","v":{"v":0,"d":"0.0"}},null,{"v":0,"d":"0.0"},null,{"$f":"$D70*I70*100","v":{"v":0,"d":"0.0"}},null,{"$f":"$D70*K70*100","v":{"v":0,"d":"0.0"}},null,{"$f":"$D70*M70*100","v":{"v":0,"d":"0.0"}},null,"- Qualifications"]
["2.4.2","- Language",null,{"$f":"'Bidder 1-5'!D71","v":{"v":0,"d":"0%"}},null,{"v":0,"d":"0.0"},null,{"v":0,"d":"0.0"},null,{"v":0,"d":"0.0"},null,{"v":0,"d":"0.0"},null,{"v":0,"d":"0.0"},null,"- Language"]
["2.4.3","- General professional experience",null,{"$f":"'Bidder 1-5'!D72","v":{"v":0,"d":"0%"}},null,{"v":0,"d":"0.0"},null,{"v":0,"d":"0.0"},null,{"v":0,"d":"0.0"},null,{"v":0,"d":"0.0"},null,{"v":0,"d":"0.0"},null,"- General professional experience"]
["2.4.4","- Specific professional experience",null,{"$f":"'Bidder 1-5'!D73","v":{"v":0,"d":"0%"}},null,{"v":0,"d":"0.0"},null,{"v":0,"d":"0.0"},null,{"v":0,"d":"0.0"},null,{"v":0,"d":"0.0"},null,{"v":0,"d":"0.0"},null,"- Specific professional experience"]
["2.4.5","- Leadership/management experience",null,{"$f":"'Bidder 1-5'!D74","v":{"v":0,"d":"0%"}},null,{"v":0,"d":"0.0"},null,{"v":0,"d":"0.0"},null,{"v":0,"d":"0.0"},null,{"v":0,"d":"0.0"},null,{"v":0,"d":"0.0"},null,"- Leadership/management experience"]
["2.4.6","- Regional experience",null,{"$f":"'Bidder 1-5'!D75","v":{"v":0,"d":"0%"}},null,{"v":0,"d":"0.0"},null,{"v":0,"d":"0.0"},null,{"v":0,"d":"0.0"},null,{"v":0,"d":"0.0"},null,{"v":0,"d":"0.0"},null,{"$f":"IF(ISBLANK(B75),A75,B75)","v":"- Regional experience"}]
["2.4.7","- Development cooperation experience",null,{"$f":"'Bidder 1-5'!D76","v":{"v":0,"d":"0%"}},null,{"v":0,"d":"0.0"},null,{"v":0,"d":"0.0"},null,{"v":0,"d":"0.0"},null,{"v":0,"d":"0.0"},null,{"v":0,"d":"0.0"},null,"- Development cooperation experience"]
["2.4.8","- Other",null,{"$f":"'Bidder 1-5'!D77","v":{"v":0,"d":"0%"}},null,{"$f":"$D77*E77*100","v":{"v":0,"d":"0.0"}},null,{"$f":"$D77*G77*100","v":{"v":0,"d":"0.0"}},null,{"$f":"$D77*I77*100","v":{"v":0,"d":"0.0"}},null,{"$f":"$D77*K77*100","v":{"v":0,"d":"0.0"}},null,{"$f":"$D77*M77*100","v":{"v":0,"d":"0.0"}},null,"- Other"]
["Interim total 2.4",null,null,{"$f":"'Bidder 1-5'!D78","v":{"v":0,"d":"0%"}},null,{"$f":"SUM(F70:F77)","v":{"v":0,"d":"0.0"}},null,{"$f":"SUM(H70:H77)","v":{"v":0,"d":"0.0"}},null,{"$f":"SUM(J70:J77)","v":{"v":0,"d":"0.0"}},null,{"$f":"SUM(L70:L77)","v":{"v":0,"d":"0.0"}},null,{"$f":"SUM(N70:N77)","v":{"v":0,"d":"0.0"}},null,"Interim total 2.4"]
["2.5","Expert 4 (in accordance with ToR provisions/criteria)",{"$nulls":13},"Expert 4 (in accordance with ToR provisions/criteria)"]
["2.5.1","- Qualifications",null,{"$f":"'Bidder 1-5'!D80","v":{"v":0,"d":"0%"}},null,{"$f":"$D80*E80*100","v":{"v":0,"d":"0.0"}},null,{"v":0,"d":"0.0"},null,{"$f":"$D80*I80*100","v":{"v":0,"d":"0.0"}},null,{"$f":"$D80*K80*100","v":{"v":0,"d":"0.0"}},null,{"$f":"$D80*M80*100","v":{"v":0,"d":"0.0"}},null,"- Qualifications"]
["2.5.2","- Language",null,{"$f":"'Bidder 1-5'!D81","v":{"v":0,"d":"0%"}},null,{"v":0,"d":"0.0"},null,{"v":0,"d":"0.0"},null,{"v":0,"d":"0.0"},null,{"v":0,"d":"0.0"},null,{"v":0,"d":"0.0"},null,"- Language"]
["2.5.3","- General professional experience",null,{"$f":"'Bidder 1-5'!D82","v":{"v":0,"d":"0%"}},null,{"v":0,"d":"0.0"},null,{"v":0,"d":"0.0"},null,{"v":0,"d":"0.0"},null,{"v":0,"d":"0.0"},null,{"v":0,"d":"0.0"},null,"- General professional experience"]
["2.5.4","- Specific professional experience",null,{"$f":"'Bidder 1-5'!D83","v":{"v":0,"d":"0%"}},null,{"v":0,"d":"0.0"},null,{"v":0,"d":"0.0"},null,{"v":0,"d":"0.0"},null,{"v":0,"d":"0.0"},null,{"v":0,"d":"0.0"},null,"- Specific professional experience"]
["2.5.5","- Leadership/management experience",null,{"$f":"'Bidder 1-5'!D84","v":{"v":0,"d":"0%"}},null,{"v":0,"d":"0.0"},null,{"v":0,"d":"0.0"},null,{"v":0,"d":"0.0"},null,{"v":0,"d":"0.0"},null,{"v":0,"d":"0.0"},null,"- Leadership/management experience"]
["2.5.6","- Regional experience",null,{"$f":"'Bidder 1-5'!D85","v":{"v":0,"d":"0%"}},null,{"v":0,"d":"0.0"},null,{"v":0,"d":"0.0"},null,{"v":0,"d":"0.0"},null,{"v":0,"d":"0.0"},null,{"v":0,"d":"0.0"},null,"- Regional experience"]
["2.5.7","- Development cooperation experience",null,{"$f":"'Bidder 1-5'!D86","v":{"v":0,"d":"0%"}},null,{"v":0,"d":"0.0"},null,{"v":0,"d":"0.0"},null,{"v":0,"d":"0.0"},null,{"v":0,"d":"0.0"},null,{"v":0,"d":"0.0"},null,"- Development cooperation experience"]
["2.5.8","- Other",null,{"$f":"'Bidder 1-5'!D87","v":{"v":0,"d":"0%"}},null,{"$f":"$D87*E87*100","v":{"v":0,"d":"0.0"}},null,{"$f":"$D87*G87*100","v":{"v":0,"d":"0.0"}},null,{"$f":"$D87*I87*100","v":{"v":0,"d":"0.0"}},null,{"$f":"$D87*K87*100","v":{"v":0,"d":"0.0"}},null,{"$f":"$D87*M87*100","v":{"v":0,"d":"0.0"}},null,"- Other"]
["Interim total 2.5",null,null,{"$f":"'Bidder 1-5'!D88","v":{"v":0,"d":"0%"}},null,{"$f":"SUM(F80:F87)","v":{"v":0,"d":"0.0"}},null,{"$f":"SUM(H80:H87)","v":{"v":0,"d":"0.0"}},null,{"$f":"SUM(J80:J87)","v":{"v":0,"d":"0.0"}},null,{"$f":"SUM(L80:L87)","v":{"v":0,"d":"0.0"}},null,{"$f":"SUM(N80:N87)","v":{"v":0,"d":"0.0"}},null,"Interim total 2.5"]
["2.6","Short-term expert pool 1 (in accordance with ToR provisions/criteria)",{"$nulls":13},"Short-term expert pool 1 (in accordance with ToR provisions/criteria)"]
["2.6.1","- Qualifications",null,{"$f":"'Bidder 1-5'!D90","v":{"v":0,"d":"0%"}},null,{"$f":"$D90*E90*100","v":{"v":0,"d":"0.0"}},null,{"v":0,"d":"0.0"},null,{"$f":"$D90*I90*100","v":{"v":0,"d":"0.0"}},null,{"$f":"$D90*K90*100","v":{"v":0,"d":"0.0"}},null,{"$f":"$D90*M90*100","v":{"v":0,"d":"0.0"}},null,"- Qualifications"]
["2.6.2","- Language",null,{"$f":"'Bidder 1-5'!D91","v":{"v":0,"d":"0%"}},null,{"v":0,"d":"0.0"},null,{"v":0,"d":"0.0"},null,{"v":0,"d":"0.0"},null,{"v":0,"d":"0.0"},null,{"v":0,"d":"0.0"},null,"- Language"]
["2.6.3","- General professional experience",null,{"$f":"'Bidder 1-5'!D92","v":{"v":0,"d":"0%"}},null,{"v":0,"d":"0.0"},null,{"v":0,"d":"0.0"},null,{"v":0,"d":"0.0"},null,{"v":0,"d":"0.0"},null,{"v":0,"d":"0.0"},null,"- General professional experience"]
["2.6.4","- Specific professional experience",null,{"$f":"'Bidder 1-5'!D93","v":{"v":0,"d":"0%"}},null,{"v":0,"d":"0.0"},null,{"v":0,"d":"0.0"},null,{"v":0,"d":"0.0"},null,{"v":0,"d":"0.0"},null,{"v":0,"d":"0.0"},null,"- Specific professional experience"]
["2.6.5","- Regional experience",null,{"$f":"'Bidder 1-5'!D94","v":{"v":0,"d":"0%"}},null,{"v":0,"d":"0.0"},null,{"v":0,"d":"0.0"},null,{"v":0,"d":"0.0"},null,{"v":0,"d":"0.0"},null,{"v":0,"d":"0.0"},null,"- Regional experience"]
["2.6.6","- Development cooperation experience",null,{"$f":"'Bidder 1-5'!D95","v":{"v":0,"d":"0%"}},null,{"v":0,"d":"0.0"},null,{"v":0,"d":"0.0"},null,{"v":0,"d":"0.0"},null,{"v":0,"d":"0.0"},null,{"v":0,"d":"0.0"},null,"- Development cooperation experience"]
["2.6.7","- Other",null,{"$f":"'Bidder 1-5'!D96","v":{"v":0,"d":"0%"}},null,{"$f":"$D96*E96*100","v":{"v":0,"d":"0.0"}},null,{"$f":"$D96*G96*100","v":{"v":0,"d":"0.0"}},null,{"$f":"$D96*I96*100","v":{"v":0,"d":"0.0"}},null,{"$f":"$D96*K96*100","v":{"v":0,"d":"0.0"}},null,{"$f":"$D96*M96*100","v":{"v":0,"d":"0.0"}},null,"- Other"]
["Interim total 2.6",null,null,{"$f":"'Bidder 1-5'!D97","v":{"v":0,"d":"0%"}},null,{"$f":"SUM(F90:F96)","v":{"v":0,"d":"0.0"}},null,{"$f":"SUM(H90:H96)","v":{"v":0,"d":"0.0"}},null,{"$f":"SUM(J90:J96)","v":{"v":0,"d":"0.0"}},null,{"$f":"SUM(L90:L96)","v":{"v":0,"d":"0.0"}},null,{"$f":"SUM(N90:N96)","v":{"v":0,"d":"0.0"}},null,"Interim total 2.6"]
["2.7","Short-term expert pool 2 (in accordance with ToR provisions/criteria)",{"$nulls":13},"Short-term expert pool 2 (in accordance with ToR provisions/criteria)"]
["2.7.1","- Qualifications",null,{"$f":"'Bidder 1-5'!D99","v":{"v":0,"d":"0%"}},null,{"$f":"$D99*E99*100","v":{"v":0,"d":"0.0"}},null,{"v":0,"d":"0.0"},null,{"$f":"$D99*I99*100","v":{"v":0,"d":"0.0"}},null,{"$f":"$D99*K99*100","v":{"v":0,"d":"0.0"}},null,{"$f":"$D99*M99*100","v":{"v":0,"d":"0.0"}},null,"- Qualifications"]
["2.7.2","- Language",null,{"$f":"'Bidder 1-5'!D100","v":{"v":0,"d":"0%"}},null,{"v":0,"d":"0.0"},null,{"v":0,"d":"0.0"},null,{"v":0,"d":"0.0"},null,{"v":0,"d":"0.0"},null,{"v":0,"d":"0.0"},null,"- Language"]
["2.7.3","- General professional experience",null,{"$f":"'Bidder 1-5'!D101","v":{"v":0,"d":"0%"}},null,{"v":0,"d":"0.0"},null,{"v":0,"d":"0.0"},null,{"v":0,"d":"0.0"},null,{"v":0,"d":"0.0"},null,{"v":0,"d":"0.0"},null,"- General professional experience"]
["2.7.4","- Specific professional experience",null,{"$f":"'Bidder 1-5'!D102","v":{"v":0,"d":"0%"}},null,{"v":0,"d":"0.0"},null,{"v":0,"d":"0.0"},null,{"v":0,"d":"0.0"},null,{"v":0,"d":"0.0"},null,{"v":0,"d":"0.0"},null,"- Specific professional experience"]
["2.7.5","- Regional experience",null,{"$f":"'Bidder 1-5'!D103","v":{"v":0,"d":"0%"}},null,{"v":0,"d":"0.0"},null,{"v":0,"d":"0.0"},null,{"v":0,"d":"0.0"},null,{"v":0,"d":"0.0"},null,{"v":0,"d":"0.0"},null,"- Regional experience"]
["2.7.6","- Development cooperation experience",null,{"$f":"'Bidder 1-5'!D104","v":{"v":0,"d":"0%"}},null,{"v":0,"d":"0.0"},null,{"v":0,"d":"0.0"},null,{"v":0,"d":"0.0"},null,{"v":0,"d":"0.0"},null,{"v":0,"d":"0.0"},null,"- Development cooperation experience"]
["2.7.7","- Other",null,{"$f":"'Bidder 1-5'!D105","v":{"v":0,"d":"0%"}},null,{"$f":"$D105*E105*100","v":{"v":0,"d":"0.0"}},null,{"$f":"$D105*G105*100","v":{"v":0,"d":"0.0"}},null,{"$f":"$D105*I105*100","v":{"v":0,"d":"0.0"}},null,{"$f":"$D105*K105*100","v":{"v":0,"d":"0.0"}},null,{"$f":"$D105*M105*100","v":{"v":0,"d":"0.0"}},null,"- Other"]
["Interim total 2.7",null,null,{"$f":"'Bidder 1-5'!D106","v":{"v":0,"d":"0%"}},null,{"$f":"SUM(F99:F105)","v":{"v":0,"d":"0.0"}},null,{"$f":"SUM(H99:H105)","v":{"v":0,"d":"0.0"}},null,{"$f":"SUM(J99:J105)","v":{"v":0,"d":"0.0"}},null,{"$f":"SUM(L99:L105)","v":{"v":0,"d":"0.0"}},null,{"$f":"SUM(N99:N105)","v":{"v":0,"d":"0.0"}},null,"Interim total 2.7"]
["2.8","Assessment of proposed personnel for non-specified positions (provided permissible under ToRs)",{"$nulls":13},"Assessment of proposed personnel for non-specified positions (provided permissible under ToRs)"]
["2.8.1","Composition and sufficient assignment duration of the team in order to perform the tasks specified in the schedule and personnel assignment plan",null,{"$f":"'Bidder 1-5'!D108","v":{"v":0,"d":"0%"}},null,{"$f":"$D108*E108*100","v":{"v":0,"d":"0.0"}},null,{"v":0,"d":"0.0"},null,{"$f":"$D108*I108*100","v":{"v":0,"d":"0.0"}},null,{"$f":"$D108*K108*100","v":{"v":0,"d":"0.0"}},null,{"$f":"$D108*M108*100","v":{"v":0,"d":"0.0"}},null,"Composition and sufficient assignment duration of the team in order to perform the tasks specified in the schedule and personnel assignment plan"]
["2.8.2","Qualifications and sufficient assignment duration of the team (professional experience and other specific experience) in order to process theme 1",null,{"$f":"'Bidder 1-5'!D109","v":{"v":0,"d":"0%"}},null,{"v":0,"d":"0.0"},null,{"v":0,"d":"0.0"},null,{"v":0,"d":"0.0"},null,{"v":0,"d":"0.0"},null,{"v":0,"d":"0.0"},null,"Qualifications and sufficient assignment duration of the team (professional experience and other specific experience) in order to process theme 1"]
["2.8.3","Qualifications and sufficient assignment duration of the team (professional experience and other specific experience) in order to process theme 2",null,{"$f":"'Bidder 1-5'!D110","v":{"v":0,"d":"0%"}},null,{"$f":"$D110*E110*100","v":{"v":0,"d":"0.0"}},null,{"$f":"$D110*G110*100","v":{"v":0,"d":"0.0"}},null,{"$f":"$D110*I110*100","v":{"v":0,"d":"0.0"}},null,{"$f":"$D110*K110*100","v":{"v":0,"d":"0.0"}},null,{"$f":"$D110*M110*100","v":{"v":0,"d":"0.0"}},null,"Qualifications and sufficient assignment duration of the team (professional experience and other specific experience) in order to process theme 2"]
["Interim total 2.8",null,null,{"$f":"'Bidder 1-5'!D111","v":{"v":0,"d":"0%"}},null,{"$f":"SUM(F108:F110)","v":{"v":0,"d":"0.0"}},null,{"$f":"SUM(H108:H110)","v":{"v":0,"d":"0.0"}},null,{"$f":"SUM(J108:J110)","v":{"v":0,"d":"0.0"}},null,{"$f":"SUM(L108:L110)","v":{"v":0,"d":"0.0"}},null,{"$f":"SUM(N108:N110)","v":{"v":0,"d":"0.0"}},null,"Interim total 2.8"]
["Total 2",null,null,{"$f":"'Bidder 1-5'!D112","v":{"v":0.65,"d":"65%"}},null,{"$f":"SUM(F48,F58,F68,F78,F88,F97,F106,F111)","v":{"v":0,"d":"0.0"}},null,{"$f":"SUM(H48,H58,H68,H78,H88,H97,H106,H111)","v":{"v":0,"d":"0.0"}},null,{"$f":"SUM(J48,J58,J68,J78,J88,J97,J106,J111)","v":{"v":0,"d":"0.0"}},null,{"$f":"SUM(L48,L58,L68,L78,L88,L97,L106,L111)","v":{"v":0,"d":"0.0"}},null,{"$f":"SUM(N48,N58,N68,N78,N88,N97,N106,N111)","v":{"v":0,"d":"0.0"}},null,"Total 2"]
["Overall total 1 + 2",null,null,{"$f":"'Bidder 1-5'!D113","v":{"v":1,"d":"100%"}},null,{"$f":"F37+F112","v":{"v":0,"d":"0.0"}},null,{"$f":"H37+H112","v":{"v":0,"d":"0.0"}},null,{"$f":"J37+J112","v":{"v":0,"d":"0.0"}},null,{"$f":"L37+L112","v":{"v":0,"d":"0.0"}},null,{"$f":"N37+N112","v":{"v":0,"d":"0.0"}},null,"Overall total 1 + 2"]
["Assessment in %",{"$nulls":4},{"$f":"F113/1000","v":{"v":0,"d":"0.0"}},null,{"$f":"H113/1000","v":{"v":0,"d":"0.0"}},null,{"$f":"J113/1000","v":{"v":0,"d":"0.0"}},null,{"$f":"L113/1000","v":{"v":0,"d":"0.0"}},null,{"$f":"N113/1000","v":{"v":0,"d":"0.0"}},null,"Assessment in %"]
["Ranking",{"$nulls":4},{"$f":"_xlfn.RANK.EQ(F114,Wertung)","v":{"v":1,"d":"1.0"}},null,{"$f":"_xlfn.RANK.EQ(H114,Wertung)","v":{"v":1,"d":"1.0"}},null,{"$f":"_xlfn.RANK.EQ(J114,Wertung)","v":{"v":1,"d":"1.0"}},null,{"$f":"_xlfn.RANK.EQ(L114,Wertung)","v":{"v":1,"d":"1.0"}},null,{"$f":"_xlfn.RANK.EQ(N114,Wertung)","v":{"v":1,"d":"1.0"}},null,"Ranking"]
[]
["I hereby declare that I completed this assessment independently, to the best of my knowledge and in good faith. I will treat the information confidentially and will not pass on any details of the ongoing assessment procedure."]
[]
[{"$nulls":8},"Date, signature"]